BEGIN:VCALENDAR
VERSION:2.0
PRODID:-//Welcome to Hollabaugh Bros, Inc. - ECPv6.15.20//NONSGML v1.0//EN
CALSCALE:GREGORIAN
METHOD:PUBLISH
X-ORIGINAL-URL:https://hollabaughbros.com
X-WR-CALDESC:Events for Welcome to Hollabaugh Bros, Inc.
REFRESH-INTERVAL;VALUE=DURATION:PT1H
X-Robots-Tag:noindex
X-PUBLISHED-TTL:PT1H
BEGIN:VTIMEZONE
TZID:America/New_York
BEGIN:DAYLIGHT
TZOFFSETFROM:-0500
TZOFFSETTO:-0400
TZNAME:EDT
DTSTART:20240310T070000
END:DAYLIGHT
BEGIN:STANDARD
TZOFFSETFROM:-0400
TZOFFSETTO:-0500
TZNAME:EST
DTSTART:20241103T060000
END:STANDARD
BEGIN:DAYLIGHT
TZOFFSETFROM:-0500
TZOFFSETTO:-0400
TZNAME:EDT
DTSTART:20250309T070000
END:DAYLIGHT
BEGIN:STANDARD
TZOFFSETFROM:-0400
TZOFFSETTO:-0500
TZNAME:EST
DTSTART:20251102T060000
END:STANDARD
BEGIN:DAYLIGHT
TZOFFSETFROM:-0500
TZOFFSETTO:-0400
TZNAME:EDT
DTSTART:20260308T070000
END:DAYLIGHT
BEGIN:STANDARD
TZOFFSETFROM:-0400
TZOFFSETTO:-0500
TZNAME:EST
DTSTART:20261101T060000
END:STANDARD
END:VTIMEZONE
BEGIN:VEVENT
DTSTART;TZID=America/New_York:20251207T120000
DTEND;TZID=America/New_York:20251207T140000
DTSTAMP:20260423T210721
CREATED:20251106T220530Z
LAST-MODIFIED:20251117T193450Z
UID:10000027-1765108800-1765116000@hollabaughbros.com
SUMMARY:Li'l Shoppers
DESCRIPTION:Mark your calendars to join us on Sunday\, December 7 (12-2pm) for our third Li’l Shoppers Event! This is the perfect opportunity for kids to shop for their loved ones: parents\, siblings\, grandparents\, pets\, with the help of our Hollabaugh’s employees. There will even be a special guest from the North Pole stopping by Sunday\, December 7 from 1-3pm!  Families can come anytime between 12-2pm. Parents can enjoy light refreshments while our elves help your child(ren) shop and wrap their hand selected gifts! \n\n\n\n\nThis event is for all ages\, and no registration is required!
URL:https://hollabaughbros.com/event/10554/
LOCATION:Hollabaugh Bros.\, Inc.\, 545 Carlisle Road\, Biglerville\, PA\, 17307\, United States
CATEGORIES:Children's Programming
ATTACH;FMTTYPE=image/png:https://hollabaughbros.com/wp-content/uploads/2025/11/event-images-5.png
END:VEVENT
BEGIN:VEVENT
DTSTART;TZID=America/New_York:20251207T120000
DTEND;TZID=America/New_York:20251207T170000
DTSTAMP:20260423T210721
CREATED:20251117T192627Z
LAST-MODIFIED:20251117T193120Z
UID:10000934-1765108800-1765126800@hollabaughbros.com
SUMMARY:16th Annual Holiday Open House
DESCRIPTION:  \nIt’s beginning to look a lot like Christmas around the market. Make plans to attend our 16th Annual Holiday Open House\, December 5-7. We’ll have refreshments\, sales\, holiday music\, a craft for kids\, a special visitor from the North Pole\, and plenty of holiday cheer. \nFind seasonal gift items and decorations to prepare your home for the holidays. We’re also bringing back our Gingerbread House Deals … at checkout\, pick a gingerbread house and reveal your Gingerbread Deal when you spend $10 or more. \nSanta will be visiting the market Saturday\, 10am-2pm and Sunday\, 1-3pm. Come and join our festive spirit and share in the holiday cheer at Hollabaugh’s!
URL:https://hollabaughbros.com/event/16th-annual-holiday-open-house-2/
LOCATION:Hollabaugh Bros.\, Inc.\, 545 Carlisle Road\, Biglerville\, PA\, 17307\, United States
CATEGORIES:Family Event
END:VEVENT
END:VCALENDAR