BEGIN:VCALENDAR
VERSION:2.0
PRODID:-//Welcome to Hollabaugh Bros, Inc. - ECPv6.15.20//NONSGML v1.0//EN
CALSCALE:GREGORIAN
METHOD:PUBLISH
X-WR-CALNAME:Welcome to Hollabaugh Bros, Inc.
X-ORIGINAL-URL:https://hollabaughbros.com
X-WR-CALDESC:Events for Welcome to Hollabaugh Bros, Inc.
REFRESH-INTERVAL;VALUE=DURATION:PT1H
X-Robots-Tag:noindex
X-PUBLISHED-TTL:PT1H
BEGIN:VTIMEZONE
TZID:America/New_York
BEGIN:DAYLIGHT
TZOFFSETFROM:-0500
TZOFFSETTO:-0400
TZNAME:EDT
DTSTART:20250309T070000
END:DAYLIGHT
BEGIN:STANDARD
TZOFFSETFROM:-0400
TZOFFSETTO:-0500
TZNAME:EST
DTSTART:20251102T060000
END:STANDARD
BEGIN:DAYLIGHT
TZOFFSETFROM:-0500
TZOFFSETTO:-0400
TZNAME:EDT
DTSTART:20260308T070000
END:DAYLIGHT
BEGIN:STANDARD
TZOFFSETFROM:-0400
TZOFFSETTO:-0500
TZNAME:EST
DTSTART:20261101T060000
END:STANDARD
BEGIN:DAYLIGHT
TZOFFSETFROM:-0500
TZOFFSETTO:-0400
TZNAME:EDT
DTSTART:20270314T070000
END:DAYLIGHT
BEGIN:STANDARD
TZOFFSETFROM:-0400
TZOFFSETTO:-0500
TZNAME:EST
DTSTART:20271107T060000
END:STANDARD
END:VTIMEZONE
BEGIN:VEVENT
DTSTART;TZID=America/New_York:20260115T100000
DTEND;TZID=America/New_York:20260115T230000
DTSTAMP:20260423T191842
CREATED:20251117T180739Z
LAST-MODIFIED:20260112T170456Z
UID:10000028-1768471200-1768518000@hollabaughbros.com
SUMMARY:Li'l Dumplings: Winter Series (AM)
DESCRIPTION:Our Li’l Dumplings programing is recommended for children ages 2-5\, with a caregiver. Cost is $10/child per session. Sign up for one or multiple sessions today. Sign up for all 6 sessions and get 1 session free. Pre-registration is required. \n\n\n\nTentative Weekly Topics*: \n\nJan. 15 – Hibernation\nJan. 22 – Snow/Winter on the Farm\nJan. 29 – Groundhog Day\nFeb. 5 – Apples\nFeb. 12 – Valentine’s Day\nFeb. 19 – Baking\n\n*PLEASE NOTE: These session topics are tentative and subject to change based on weather and crop season. If a session is cancelled by Hollabaugh Bros. due to weather\, the make-up class(es) will be held the day after (Friday) at 10AM and 3PM
URL:https://hollabaughbros.com/event/lil-dumplings-winter-series/2026-01-15/
LOCATION:Hollabaugh Bros.\, Inc.\, 545 Carlisle Road\, Biglerville\, PA\, 17307\, United States
CATEGORIES:Li'l Dumplings
END:VEVENT
BEGIN:VEVENT
DTSTART;TZID=America/New_York:20260115T150000
DTEND;TZID=America/New_York:20260115T160000
DTSTAMP:20260423T191842
CREATED:20251117T182746Z
LAST-MODIFIED:20260112T170404Z
UID:10000144-1768489200-1768492800@hollabaughbros.com
SUMMARY:Li'l Dumplings: Winter Series (PM)
DESCRIPTION:Our Li’l Dumplings programing is recommended for children ages 2-5\, with a caregiver. Cost is $10/child per session. Sign up for one or multiple sessions today. Sign up for all 6 sessions and get 1 session free. Pre-registration is required. \n\n\n\nTentative Weekly Topics*: \n\nJan. 15 – Hibernation\nJan. 22 – Snow/Winter on the Farm\nJan. 29 – Groundhog Day\nFeb. 5 – Apples\nFeb. 12 – Valentine’s Day\nFeb. 19 – Baking\n\n*PLEASE NOTE: These session topics are tentative and subject to change based on weather and crop season. If a session is cancelled by Hollabaugh Bros. due to weather\, the make-up class(es) will be held the day after (Friday) at 10AM and 3PM \n\n\n \n 
URL:https://hollabaughbros.com/event/lil-dumplings-winter-series-2/2026-01-15/
LOCATION:Hollabaugh Bros.\, Inc.\, 545 Carlisle Road\, Biglerville\, PA\, 17307\, United States
CATEGORIES:Li'l Dumplings
END:VEVENT
END:VCALENDAR