BEGIN:VCALENDAR
VERSION:2.0
PRODID:-//Welcome to Hollabaugh Bros, Inc. - ECPv6.15.20//NONSGML v1.0//EN
CALSCALE:GREGORIAN
METHOD:PUBLISH
X-ORIGINAL-URL:https://hollabaughbros.com
X-WR-CALDESC:Events for Welcome to Hollabaugh Bros, Inc.
REFRESH-INTERVAL;VALUE=DURATION:PT1H
X-Robots-Tag:noindex
X-PUBLISHED-TTL:PT1H
BEGIN:VTIMEZONE
TZID:America/New_York
BEGIN:DAYLIGHT
TZOFFSETFROM:-0500
TZOFFSETTO:-0400
TZNAME:EDT
DTSTART:20250309T070000
END:DAYLIGHT
BEGIN:STANDARD
TZOFFSETFROM:-0400
TZOFFSETTO:-0500
TZNAME:EST
DTSTART:20251102T060000
END:STANDARD
BEGIN:DAYLIGHT
TZOFFSETFROM:-0500
TZOFFSETTO:-0400
TZNAME:EDT
DTSTART:20260308T070000
END:DAYLIGHT
BEGIN:STANDARD
TZOFFSETFROM:-0400
TZOFFSETTO:-0500
TZNAME:EST
DTSTART:20261101T060000
END:STANDARD
BEGIN:DAYLIGHT
TZOFFSETFROM:-0500
TZOFFSETTO:-0400
TZNAME:EDT
DTSTART:20270314T070000
END:DAYLIGHT
BEGIN:STANDARD
TZOFFSETFROM:-0400
TZOFFSETTO:-0500
TZNAME:EST
DTSTART:20271107T060000
END:STANDARD
END:VTIMEZONE
BEGIN:VEVENT
DTSTART;TZID=America/New_York:20260516T100000
DTEND;TZID=America/New_York:20260516T110000
DTSTAMP:20260423T160833
CREATED:20260323T182102Z
LAST-MODIFIED:20260323T184512Z
UID:10002125-1778925600-1778929200@hollabaughbros.com
SUMMARY: Kid’s Strawberry Day at Hollabaugh Bros.
DESCRIPTION:Join us for a sweet morning of strawberry-themed fun! \nWe’re inviting kids of all ages to enjoy:\n🍓 A fun strawberry craft\n🍓 A tasty themed snack\n🍓 An engaging activity \nIt’s the perfect way to celebrate all things strawberry with a little creativity\, a little learning\, and a lot of fun! Registration is $10 per person. Space may be limited\, so be sure to sign up in advance! We can’t wait to see your little ones there for this berry special event! 🍓
URL:https://hollabaughbros.com/event/kids-strawberry-day-at-hollabaugh-bros/
LOCATION:Hollabaugh Bros.\, Inc.\, 545 Carlisle Road\, Biglerville\, PA\, 17307\, United States
CATEGORIES:Children's Programming
ATTACH;FMTTYPE=image/png:https://hollabaughbros.com/wp-content/uploads/2026/03/event-images-1.png
END:VEVENT
END:VCALENDAR