BEGIN:VCALENDAR
VERSION:2.0
PRODID:-//Welcome to Hollabaugh Bros, Inc. - ECPv6.15.20//NONSGML v1.0//EN
CALSCALE:GREGORIAN
METHOD:PUBLISH
X-WR-CALNAME:Welcome to Hollabaugh Bros, Inc.
X-ORIGINAL-URL:https://hollabaughbros.com
X-WR-CALDESC:Events for Welcome to Hollabaugh Bros, Inc.
REFRESH-INTERVAL;VALUE=DURATION:PT1H
X-Robots-Tag:noindex
X-PUBLISHED-TTL:PT1H
BEGIN:VTIMEZONE
TZID:America/New_York
BEGIN:DAYLIGHT
TZOFFSETFROM:-0500
TZOFFSETTO:-0400
TZNAME:EDT
DTSTART:20250309T070000
END:DAYLIGHT
BEGIN:STANDARD
TZOFFSETFROM:-0400
TZOFFSETTO:-0500
TZNAME:EST
DTSTART:20251102T060000
END:STANDARD
BEGIN:DAYLIGHT
TZOFFSETFROM:-0500
TZOFFSETTO:-0400
TZNAME:EDT
DTSTART:20260308T070000
END:DAYLIGHT
BEGIN:STANDARD
TZOFFSETFROM:-0400
TZOFFSETTO:-0500
TZNAME:EST
DTSTART:20261101T060000
END:STANDARD
BEGIN:DAYLIGHT
TZOFFSETFROM:-0500
TZOFFSETTO:-0400
TZNAME:EDT
DTSTART:20270314T070000
END:DAYLIGHT
BEGIN:STANDARD
TZOFFSETFROM:-0400
TZOFFSETTO:-0500
TZNAME:EST
DTSTART:20271107T060000
END:STANDARD
END:VTIMEZONE
BEGIN:VEVENT
DTSTART;TZID=America/New_York:20260606T090000
DTEND;TZID=America/New_York:20260606T170000
DTSTAMP:20260423T174030
CREATED:20260323T174334Z
LAST-MODIFIED:20260323T174742Z
UID:10002124-1780736400-1780765200@hollabaughbros.com
SUMMARY:Book & Puzzle Swap
DESCRIPTION:Join us for another fun-filled day of swapping and sharing! Our last book swap was such a hit\, we’re bringing it back—with a twist! This time\, we’re adding a Puzzle Swap too. 🧩 \nHere’s how it works:\n📖 Book Swap* – Bring a book (or a few!) you’ve enjoyed and trade for something new-to-you.\n🧩 Puzzle Swap* – Got a puzzle you’ve already completed? Bring it along and pick out a different one to take home! \nIt’s a great way to refresh your bookshelf\, discover new reads\, and keep the puzzle fun going all throughout the summer! No registration needed—just stop by anytime between 9 and 5 and join in!\nWe can’t wait to see what you bring and what treasures you’ll find. If you have books or puzzles to drop of before the event\, please leave them up at the registers! \n*If you bring a book or puzzle to swap\, you will receive a coupon for shopping in the market!\n*Limit one per customer
URL:https://hollabaughbros.com/event/book-puzzle-swap/
LOCATION:Hollabaugh Bros.\, Inc.\, 545 Carlisle Road\, Biglerville\, PA\, 17307\, United States
CATEGORIES:Family Event
ATTACH;FMTTYPE=image/png:https://hollabaughbros.com/wp-content/uploads/2026/03/event-images.png
END:VEVENT
END:VCALENDAR