BEGIN:VCALENDAR
VERSION:2.0
PRODID:-//Welcome to Hollabaugh Bros, Inc. - ECPv6.15.20//NONSGML v1.0//EN
CALSCALE:GREGORIAN
METHOD:PUBLISH
X-WR-CALNAME:Welcome to Hollabaugh Bros, Inc.
X-ORIGINAL-URL:https://hollabaughbros.com
X-WR-CALDESC:Events for Welcome to Hollabaugh Bros, Inc.
REFRESH-INTERVAL;VALUE=DURATION:PT1H
X-Robots-Tag:noindex
X-PUBLISHED-TTL:PT1H
BEGIN:VTIMEZONE
TZID:America/New_York
BEGIN:DAYLIGHT
TZOFFSETFROM:-0500
TZOFFSETTO:-0400
TZNAME:EDT
DTSTART:20250309T070000
END:DAYLIGHT
BEGIN:STANDARD
TZOFFSETFROM:-0400
TZOFFSETTO:-0500
TZNAME:EST
DTSTART:20251102T060000
END:STANDARD
BEGIN:DAYLIGHT
TZOFFSETFROM:-0500
TZOFFSETTO:-0400
TZNAME:EDT
DTSTART:20260308T070000
END:DAYLIGHT
BEGIN:STANDARD
TZOFFSETFROM:-0400
TZOFFSETTO:-0500
TZNAME:EST
DTSTART:20261101T060000
END:STANDARD
BEGIN:DAYLIGHT
TZOFFSETFROM:-0500
TZOFFSETTO:-0400
TZNAME:EDT
DTSTART:20270314T070000
END:DAYLIGHT
BEGIN:STANDARD
TZOFFSETFROM:-0400
TZOFFSETTO:-0500
TZNAME:EST
DTSTART:20271107T060000
END:STANDARD
END:VTIMEZONE
BEGIN:VEVENT
DTSTART;TZID=America/New_York:20260711T120000
DTEND;TZID=America/New_York:20260711T160000
DTSTAMP:20260423T191735
CREATED:20260112T183857Z
LAST-MODIFIED:20260203T194234Z
UID:10001683-1783771200-1783785600@hollabaughbros.com
SUMMARY:71st Anniversary Blueberry Festival
DESCRIPTION:It’s time to celebrate blueberry season on the farm! 🫐🎶 \nJoin us for our annual Blueberry Festival\, where the farm is full of flavor and family fun. Enjoy live music from local country singer/songwriter Austin Rife while taking in the sights and sounds of summer. Hop on a wagon ride\, treat yourself to blueberry ice cream or a creamy milkshake\, sample our favorite blueberry products\, and don’t miss our ice cream tent featuring blueberry sundaes and pie à la mode. \nBe sure to stroll through and shop with our talented local artisan vendors\, and let the kids join in the fun with a blueberry-themed craft\, scavenger hunt\, yard games\, and pick-your-own blueberries. \nWe’ll have food trucks on site\, so come hungry and plan to spend the afternoon enjoying good food\, great music\, and sweet blueberry memories with family and friends. We can’t wait to see you on the farm! 🫐🚜😊
URL:https://hollabaughbros.com/event/71st-anniversary-blueberry-festival/2026-07-11/
LOCATION:Hollabaugh Bros.\, Inc.\, 545 Carlisle Road\, Biglerville\, PA\, 17307\, United States
CATEGORIES:Festival
ATTACH;FMTTYPE=image/png:https://hollabaughbros.com/wp-content/uploads/2026/01/event-images-9.png
END:VEVENT
END:VCALENDAR