BEGIN:VCALENDAR
VERSION:2.0
PRODID:-//Welcome to Hollabaugh Bros, Inc. - ECPv6.15.20//NONSGML v1.0//EN
CALSCALE:GREGORIAN
METHOD:PUBLISH
X-WR-CALNAME:Welcome to Hollabaugh Bros, Inc.
X-ORIGINAL-URL:https://hollabaughbros.com
X-WR-CALDESC:Events for Welcome to Hollabaugh Bros, Inc.
REFRESH-INTERVAL;VALUE=DURATION:PT1H
X-Robots-Tag:noindex
X-PUBLISHED-TTL:PT1H
BEGIN:VTIMEZONE
TZID:America/New_York
BEGIN:DAYLIGHT
TZOFFSETFROM:-0500
TZOFFSETTO:-0400
TZNAME:EDT
DTSTART:20250309T070000
END:DAYLIGHT
BEGIN:STANDARD
TZOFFSETFROM:-0400
TZOFFSETTO:-0500
TZNAME:EST
DTSTART:20251102T060000
END:STANDARD
BEGIN:DAYLIGHT
TZOFFSETFROM:-0500
TZOFFSETTO:-0400
TZNAME:EDT
DTSTART:20260308T070000
END:DAYLIGHT
BEGIN:STANDARD
TZOFFSETFROM:-0400
TZOFFSETTO:-0500
TZNAME:EST
DTSTART:20261101T060000
END:STANDARD
BEGIN:DAYLIGHT
TZOFFSETFROM:-0500
TZOFFSETTO:-0400
TZNAME:EDT
DTSTART:20270314T070000
END:DAYLIGHT
BEGIN:STANDARD
TZOFFSETFROM:-0400
TZOFFSETTO:-0500
TZNAME:EST
DTSTART:20271107T060000
END:STANDARD
END:VTIMEZONE
BEGIN:VEVENT
DTSTART;TZID=America/New_York:20260614T130000
DTEND;TZID=America/New_York:20260614T140000
DTSTAMP:20260423T185428
CREATED:20260323T184445Z
LAST-MODIFIED:20260323T184445Z
UID:10002126-1781442000-1781445600@hollabaughbros.com
SUMMARY:Father’s Day Derby Car Event
DESCRIPTION:Celebrate Dad with a hands-on activity that’s fun for all ages! \nJoin us for our Father’s Day Derby Car Event\, where each participant will get to assemble\, paint\, and customize their own small wooden derby car. Whether you go classic or creative\, it’s all about spending time together and making something memorable. \n🚗 Each registration includes one wooden derby car kit to assemble and decorate (if working together on one car\, only one registration needed)\n🎨 We’ll provide supplies to help bring your design to life\n🍿 Light snacks will be available to enjoy while you create\n💲 $15 per car \nPre-registration is required. Bring Dad\, Grandpa\, or your favorite grown-up and make it a Father’s Day to remember! 🏁 \n 
URL:https://hollabaughbros.com/event/fathers-day-derby-car-event/
LOCATION:Hollabaugh Bros.\, Inc.\, 545 Carlisle Road\, Biglerville\, PA\, 17307\, United States
CATEGORIES:Children's Programming
ATTACH;FMTTYPE=image/png:https://hollabaughbros.com/wp-content/uploads/2026/03/event-images-2-1.png
END:VEVENT
END:VCALENDAR