BEGIN:VCALENDAR
VERSION:2.0
PRODID:-//Welcome to Hollabaugh Bros, Inc. - ECPv6.15.20//NONSGML v1.0//EN
CALSCALE:GREGORIAN
METHOD:PUBLISH
X-WR-CALNAME:Welcome to Hollabaugh Bros, Inc.
X-ORIGINAL-URL:https://hollabaughbros.com
X-WR-CALDESC:Events for Welcome to Hollabaugh Bros, Inc.
REFRESH-INTERVAL;VALUE=DURATION:PT1H
X-Robots-Tag:noindex
X-PUBLISHED-TTL:PT1H
BEGIN:VTIMEZONE
TZID:America/New_York
BEGIN:DAYLIGHT
TZOFFSETFROM:-0500
TZOFFSETTO:-0400
TZNAME:EDT
DTSTART:20240310T070000
END:DAYLIGHT
BEGIN:STANDARD
TZOFFSETFROM:-0400
TZOFFSETTO:-0500
TZNAME:EST
DTSTART:20241103T060000
END:STANDARD
BEGIN:DAYLIGHT
TZOFFSETFROM:-0500
TZOFFSETTO:-0400
TZNAME:EDT
DTSTART:20250309T070000
END:DAYLIGHT
BEGIN:STANDARD
TZOFFSETFROM:-0400
TZOFFSETTO:-0500
TZNAME:EST
DTSTART:20251102T060000
END:STANDARD
BEGIN:DAYLIGHT
TZOFFSETFROM:-0500
TZOFFSETTO:-0400
TZNAME:EDT
DTSTART:20260308T070000
END:DAYLIGHT
BEGIN:STANDARD
TZOFFSETFROM:-0400
TZOFFSETTO:-0500
TZNAME:EST
DTSTART:20261101T060000
END:STANDARD
BEGIN:DAYLIGHT
TZOFFSETFROM:-0500
TZOFFSETTO:-0400
TZNAME:EDT
DTSTART:20270314T070000
END:DAYLIGHT
BEGIN:STANDARD
TZOFFSETFROM:-0400
TZOFFSETTO:-0500
TZNAME:EST
DTSTART:20271107T060000
END:STANDARD
END:VTIMEZONE
BEGIN:VEVENT
DTSTART;TZID=America/New_York:20260418T100000
DTEND;TZID=America/New_York:20260418T120000
DTSTAMP:20260424T234526
CREATED:20260220T203021Z
LAST-MODIFIED:20260224T141624Z
UID:10002063-1776506400-1776513600@hollabaughbros.com
SUMMARY:Charcuterie Class with Penn State Extension
DESCRIPTION:Get ready to snack smarter and have a little fun in the kitchen!  Join us for “Let’s Cook Charcuterie Boards\,” an in-person workshop with Penn State Extension where you’ll learn how to put a healthy twist on everyone’s favorite food trend. Discover simple tips for building beautiful\, crowd-pleasing boards that look just as good as they taste. Best part? Your charcuterie board and all supplies are included—just bring your appetite and creativity! \nCost is $30 per person and pre-registration is required! Registration is handled through Penn State Extension and closes at midnight on April 13th. \n  \n \n 
URL:https://hollabaughbros.com/event/charcuterie-class-with-penn-state-extension-3/
LOCATION:Hollabaugh Bros.\, Inc.\, 545 Carlisle Road\, Biglerville\, PA\, 17307\, United States
CATEGORIES:DIY Classes
ATTACH;FMTTYPE=image/png:https://hollabaughbros.com/wp-content/uploads/2025/09/LETS-COOK-CHARCUTERIE-BOARDS.png
END:VEVENT
BEGIN:VEVENT
DTSTART;TZID=America/New_York:20260411T100000
DTEND;TZID=America/New_York:20260411T120000
DTSTAMP:20260424T234526
CREATED:20260220T202538Z
LAST-MODIFIED:20260220T202538Z
UID:10002062-1775901600-1775908800@hollabaughbros.com
SUMMARY:Cookie Decorating Class
DESCRIPTION:April Cookie Decorating Class – Sprinkles\, Watercolor & Palette Knife Fun! \nGet artsy with icing this spring! Join Eve Baum of Beehive Cookie Co. for a 2-hour\, hands-on sugar cookie decorating class featuring sprinkles\, watercolor techniques\, and palette knife textures.\nYou’ll learn decorating basics\, master icing consistency\, and create 6 large themed cookies. We provide everything: cookies\, icing\, supplies\, and a box to take your creations home. Just bring your creativity (and maybe a friend!). All ages welcome! \n🎨 Perfect for a spring girls’ day\, a creative date\, or a fun outing with friends\n🎟️ Limited spots — registration required \nCome swirl\, sprinkle\, and create edible art you’ll be proud to show off (and eat)! \nCost is $47/person and pre-registration is required. \n 
URL:https://hollabaughbros.com/event/cookie-decorating-class-2/
LOCATION:Hollabaugh Bros.\, Inc.\, 545 Carlisle Road\, Biglerville\, PA\, 17307\, United States
CATEGORIES:DIY Classes
ATTACH;FMTTYPE=image/png:https://hollabaughbros.com/wp-content/uploads/2026/02/event-images-3.png
END:VEVENT
BEGIN:VEVENT
DTSTART;TZID=America/New_York:20260328T100000
DTEND;TZID=America/New_York:20260328T110000
DTSTAMP:20260424T234526
CREATED:20260203T193747Z
LAST-MODIFIED:20260213T152731Z
UID:10002058-1774692000-1774695600@hollabaughbros.com
SUMMARY:Sourdough: Shaping & Folding Class
DESCRIPTION:Join us for another hands-on sourdough workshop with Becky McCulloch! Learn essential techniques including shaping a boule loaf\, trying three folding methods\, and practicing scoring styles. Customize your loaf with optional mix-in ingredients\, then take it home ready to bake—along with a helpful instruction packet to guide you! This is a perfect “part 2” to our Sourdough Starter Class\, or an introduction if you are familiar with starters! Limited spaces available- register today!
URL:https://hollabaughbros.com/event/sourdough-shaping-folding-class/
LOCATION:Hollabaugh Bros.\, Inc.\, 545 Carlisle Road\, Biglerville\, PA\, 17307\, United States
CATEGORIES:DIY Classes
ATTACH;FMTTYPE=image/png:https://hollabaughbros.com/wp-content/uploads/2026/02/event-images.png
END:VEVENT
BEGIN:VEVENT
DTSTART;TZID=America/New_York:20260321T130000
DTEND;TZID=America/New_York:20260321T143000
DTSTAMP:20260424T234526
CREATED:20251212T212143Z
LAST-MODIFIED:20260319T221016Z
UID:10001307-1774098000-1774103400@hollabaughbros.com
SUMMARY:SOLD OUT: Wooden Flower Spring Wreath Workshop
DESCRIPTION:Ready to invite the warmth of spring into your home? Then come out to Hollabaugh Bros. to make a beautiful spring Sola Wood flower grapevine wreath that can be used year after year!! You will be provided with all the materials needed to create this Sola Wood beauty and taught step by step how to create a wreath of your very own! \nCost is $40 and pre-registration is required. \n 
URL:https://hollabaughbros.com/event/wooden-flower-spring-wreath-workshop/
LOCATION:Hollabaugh Bros.\, Inc.\, 545 Carlisle Road\, Biglerville\, PA\, 17307\, United States
CATEGORIES:DIY Classes
ATTACH;FMTTYPE=image/png:https://hollabaughbros.com/wp-content/uploads/2025/12/event-images-3.png
END:VEVENT
BEGIN:VEVENT
DTSTART;TZID=America/New_York:20260314T140000
DTEND;TZID=America/New_York:20260314T160000
DTSTAMP:20260424T234526
CREATED:20251212T212516Z
LAST-MODIFIED:20260203T193959Z
UID:10001308-1773496800-1773504000@hollabaughbros.com
SUMMARY:Easter Centerpiece Class with Meadowbrooke Gourds
DESCRIPTION:Our friends from Meadowbrooke Gourds are heading to the farm with three adorable\, custom centerpiece projects for you to pick from when you register for this class. Whether you’re the “teach-me-everything” type or the “I’ve totally got this” DIY superstar\, you’re in luck — you can follow along with two talented Meadowbrooke instructors or create at your own pace. \nCost is $35/person/project and pre-registration is required. No experience needed. **Projects must be selected when registering for this event** \nProject Descriptions: \n\n#1 Easter Basket with Seven Eggs and Grass – The box shows the basket and eggs painted and unpainted\, as well as everything included with this project. Our gourd basket is approximately 8″ in diameter and our gourd eggs are approximately the same size and shape as your average chick egg.\n#2 Spring Bunny – The photo shows the bunny completely finished and lit with a battery operated tealight (included) and all the pieces included on the right side of the box. This bunny is approximately 4″ in diameter and approximately 7 1/2″ tall.\n#3 Spring Duck – The photo shows the duck completely finished and lit with a battery operated tealight (included) and all the pieces included on the right side of the box. This duck is approximately 4″ in diameter and approximately 7 1/2″ tall.\n\nCome make something beautiful with us — we can’t wait to see what you create! \n 
URL:https://hollabaughbros.com/event/easter-centerpiece-class-with-meadowbrooke-gourds/
LOCATION:Hollabaugh Bros.\, Inc.\, 545 Carlisle Road\, Biglerville\, PA\, 17307\, United States
CATEGORIES:DIY Classes
ATTACH;FMTTYPE=image/png:https://hollabaughbros.com/wp-content/uploads/2025/12/event-images-4.png
END:VEVENT
BEGIN:VEVENT
DTSTART;TZID=America/New_York:20260314T100000
DTEND;TZID=America/New_York:20260314T120000
DTSTAMP:20260424T234526
CREATED:20260112T172647Z
LAST-MODIFIED:20260112T173404Z
UID:10001312-1773482400-1773489600@hollabaughbros.com
SUMMARY:Paint-Along with Bobbi Becker at Hollabaugh’s!
DESCRIPTION:Join us for a berry sweet and creative event at Hollabaugh Bros.\, Inc. as we welcome local artist Bobbi Becker for a fun-filled Paint-Along class! \n🎨 What you’ll create: \n\nHand-paint your very own Strawberry Moon — featuring a kind little bunny sharing Hollabaugh’s strawberries with his Moon friend. How adorable is that?!\n\n✨ What’s included: \n\nA 14” wooden moon\nPaints & brushes\nStep-by-step guidance from Bobbi\nPlenty of silliness and smiles\n\nNo experience needed — just come ready to relax\, laugh\, and paint something special to take home. This is a perfect time out with friends\, family\, or a little creative “me time.” Cost is $55/person. Spots are limited\, so be sure to check the event details and save your seat. We can’t wait to paint with you at the farm!
URL:https://hollabaughbros.com/event/paint-along-with-bobbi-becker-at-hollabaughs/
LOCATION:Hollabaugh Bros.\, Inc.\, 545 Carlisle Road\, Biglerville\, PA\, 17307\, United States
CATEGORIES:DIY Classes
ATTACH;FMTTYPE=image/png:https://hollabaughbros.com/wp-content/uploads/2026/01/event-images-2.png
ORGANIZER;CN="Bobbi Becker":MAILTO:bobbibeckerartist@gmail.com
END:VEVENT
BEGIN:VEVENT
DTSTART;TZID=America/New_York:20260307T103000
DTEND;TZID=America/New_York:20260307T133000
DTSTAMP:20260424T234526
CREATED:20260107T172447Z
LAST-MODIFIED:20260226T200939Z
UID:10001310-1772879400-1772890200@hollabaughbros.com
SUMMARY:SOLD OUT: Stained Glass Class with Peace Through Glass
DESCRIPTION:Join us for a hands-on stained glass class led by local artist Chris Parker. During this guided workshop\, participants will select from a variety of project options upon arrival\, including an Easter Egg\, Church Window\, Honeycomb\, and more. You’ll learn the copper foil technique and create a beautiful stained glass piece that will be completed and ready to take home by the end of the class. All materials are provided\, and no prior experience is necessary. \n👩‍🎨 Ages 12 and up\n💲 $55 per person\n📌 Registration required \nEnjoy a creative experience at the farm and leave with a handcrafted piece to treasure. \n 
URL:https://hollabaughbros.com/event/stained-glass-class-with-peach-through-glass/
LOCATION:Hollabaugh Bros.\, Inc.\, 545 Carlisle Road\, Biglerville\, PA\, 17307\, United States
CATEGORIES:DIY Classes
ATTACH;FMTTYPE=image/png:https://hollabaughbros.com/wp-content/uploads/2026/01/event-images.png
END:VEVENT
BEGIN:VEVENT
DTSTART;TZID=America/New_York:20260228T100000
DTEND;TZID=America/New_York:20260228T120000
DTSTAMP:20260424T234526
CREATED:20251215T175406Z
LAST-MODIFIED:20260114T174259Z
UID:10001309-1772272800-1772280000@hollabaughbros.com
SUMMARY:SOLD OUT: Charcuterie Class with Penn State Extension
DESCRIPTION:Learn how to put a healthy twist on a popular trend in this “Let’s Cook Charcuterie Boards” workshop. This in-person class\, presented by Penn State Extension\, teaches you how to assemble delightful displays. Charcuterie board and all supplies are included in registration. \nTOPICS: \n\nThemed board components\nDelicious dip recipes\nNutritionally balanced options\n\nCost is $30/person and pre-registration is required. Register through Penn State Extension online or by calling 877-345-0691 today! Registration closes January 24th. \n 
URL:https://hollabaughbros.com/event/charcuterie-class-with-penn-state-extension-2/
LOCATION:Hollabaugh Bros.\, Inc.\, 545 Carlisle Road\, Biglerville\, PA\, 17307\, United States
CATEGORIES:DIY Classes
ATTACH;FMTTYPE=image/png:https://hollabaughbros.com/wp-content/uploads/2025/09/LETS-COOK-CHARCUTERIE-BOARDS.png
END:VEVENT
BEGIN:VEVENT
DTSTART;TZID=America/New_York:20260221T100000
DTEND;TZID=America/New_York:20260221T120000
DTSTAMP:20260424T234526
CREATED:20251212T211800Z
LAST-MODIFIED:20260112T165944Z
UID:10001306-1771668000-1771675200@hollabaughbros.com
SUMMARY:Wooden Flower Workshop
DESCRIPTION:Join Brandy with Forever Flowers and Gifts in making a unique wooden flower arrangement\, using a book as the “vase”. She will walk you step by step through the process! There will be a variety of flowers for you to choose from\, so you can customize it to fit your decor! And\, since they are wooden flowers\, there is no maintenance and it will last forever! \nCost is $55/person and pre-registration is required. Plan to stay after the class for our first ever Book Swap event from 12-5pm! Bring books to trade if you would like to participate! \n 
URL:https://hollabaughbros.com/event/wooden-flower-workshop/
LOCATION:Hollabaugh Bros.\, Inc.\, 545 Carlisle Road\, Biglerville\, PA\, 17307\, United States
CATEGORIES:DIY Classes
ATTACH;FMTTYPE=image/png:https://hollabaughbros.com/wp-content/uploads/2025/12/event-images-1.png
END:VEVENT
BEGIN:VEVENT
DTSTART;TZID=America/New_York:20260207T140000
DTEND;TZID=America/New_York:20260207T150000
DTSTAMP:20260424T234526
CREATED:20260112T173323Z
LAST-MODIFIED:20260112T173323Z
UID:10001313-1770472800-1770476400@hollabaughbros.com
SUMMARY:Sourdough Starter Class
DESCRIPTION:Learn all about sourdough starters with us. Becky McCulloch will provide a demonstration on how to feed and take care of starters. You will also sample different sourdough breads and learn about the process that goes into making the perfect loaf! Each participant will leave with their own jar of starter to begin their Sourdough journey. Don’t delay\, register today\, as this class will sell out. Registration includes: \n\n\n\n\nStarter samples in a jar\n\n\n\nPackets of instructions\n\n\n\nA general recipe of how to use the starters in a recipe\n\n\n\n\nCost is $25 and pre-registration is required. Participants must be 12 years of age or older. \n 
URL:https://hollabaughbros.com/event/sourdough-starter-class-4/
LOCATION:Hollabaugh Bros.\, Inc.\, 545 Carlisle Road\, Biglerville\, PA\, 17307\, United States
CATEGORIES:DIY Classes
END:VEVENT
BEGIN:VEVENT
DTSTART;TZID=America/New_York:20260207T100000
DTEND;TZID=America/New_York:20260207T120000
DTSTAMP:20260424T234526
CREATED:20251212T210813Z
LAST-MODIFIED:20260112T170035Z
UID:10001304-1770458400-1770465600@hollabaughbros.com
SUMMARY:Cookie Decorating Class
DESCRIPTION:Join us for our first class with Eve from Beehive Cookie Co. in 2026! \nAlways wanted to decorate sugar cookies? In this fun 2 hour long class\, we will cover the basic tools used to decorate sugar cookies. We will talk about tips for cookie making + icing consistency. Then\, we will be doing large themed cookies that will taste amazing and will look even better once you’ve completed your decorating! Everything you need will be provided: cookies\, icing and a box to take your cookies home! \nCost is $47/person and pre-registration is required. \n 
URL:https://hollabaughbros.com/event/cookie-decorating-class/
LOCATION:Hollabaugh Bros.\, Inc.\, 545 Carlisle Road\, Biglerville\, PA\, 17307\, United States
CATEGORIES:DIY Classes
ATTACH;FMTTYPE=image/png:https://hollabaughbros.com/wp-content/uploads/2026/01/event-images-1.png
END:VEVENT
BEGIN:VEVENT
DTSTART;TZID=America/New_York:20260131T120000
DTEND;TZID=America/New_York:20260131T130000
DTSTAMP:20260424T234526
CREATED:20260109T221051Z
LAST-MODIFIED:20260114T174142Z
UID:10001311-1769860800-1769864400@hollabaughbros.com
SUMMARY:SOLD OUT: Sourdough Starter Class PM
DESCRIPTION:  \n\nLearn all about sourdough starters with us. Becky McCulloch will provide a demonstration on how to feed and take care of starters. You will also sample different sourdough breads and learn about the process that goes into making the perfect loaf! Each participant will leave with their own jar of starter to begin their Sourdough journey. Don’t delay\, register today\, as this class will sell out. Registration includes: \n\n\n\n\nStarter samples in a jar\n\n\n\nPackets of instructions\n\n\n\nA general recipe of how to use the starters in a recipe\n\n\n\n\nCost is $25 and pre-registration is required. Participants must be 12 years of age or older. \n 
URL:https://hollabaughbros.com/event/sourdough-starter-class-pm/
LOCATION:Hollabaugh Bros.\, Inc.\, 545 Carlisle Road\, Biglerville\, PA\, 17307\, United States
CATEGORIES:DIY Classes
END:VEVENT
BEGIN:VEVENT
DTSTART;TZID=America/New_York:20260131T103000
DTEND;TZID=America/New_York:20260131T113000
DTSTAMP:20260424T234526
CREATED:20251120T205550Z
LAST-MODIFIED:20260112T170150Z
UID:10001302-1769855400-1769859000@hollabaughbros.com
SUMMARY:SOLD OUT: Sourdough Starter Class AM
DESCRIPTION:Learn all about sourdough starters with us. Becky McCulloch will provide a demonstration on how to feed and take care of starters. You will also sample different sourdough breads and learn about the process that goes into making the perfect loaf! Each participant will leave with their own jar of starter to begin their Sourdough journey. Don’t delay\, register today\, as this class will sell out. Registration includes: \n\n\n\n\nStarter samples in a jar\n\n\n\nPackets of instructions\n\n\n\nA general recipe of how to use the starters in a recipe\n\n\n\n\nCost is $25.. Participants must be 12 years of age or older.
URL:https://hollabaughbros.com/event/sourdough-starter-class-3/
LOCATION:Hollabaugh Bros.\, Inc.\, 545 Carlisle Road\, Biglerville\, PA\, 17307\, United States
CATEGORIES:DIY Classes
END:VEVENT
BEGIN:VEVENT
DTSTART;TZID=America/New_York:20260124T103000
DTEND;TZID=America/New_York:20260124T133000
DTSTAMP:20260424T234526
CREATED:20251120T204500Z
LAST-MODIFIED:20260112T170237Z
UID:10001301-1769250600-1769261400@hollabaughbros.com
SUMMARY:Stained-Glass Class with Chris Parker
DESCRIPTION:Make your own stained glass artwork with stained glass artist\, Chris Parker. All supplies will be provided. For this class\, you can choose between a variety of projects when you get here\, including a four leaf clover\, honeycomb\, cardinal\, turtle\, and more! You will learn the copper foil technique and your project will be ready to take home with you at conclusion of the class. \nCost is $55/person and includes all supplies to make your stained-glass art. Pre-registration required. Must be at least 12 years old to participate. \n 
URL:https://hollabaughbros.com/event/stained-glass-class-with-chris-parker/
LOCATION:Hollabaugh Bros.\, Inc.\, 545 Carlisle Road\, Biglerville\, PA\, 17307\, United States
CATEGORIES:DIY Classes
ATTACH;FMTTYPE=image/png:https://hollabaughbros.com/wp-content/uploads/2025/11/event-images-7.png
END:VEVENT
BEGIN:VEVENT
DTSTART;TZID=America/New_York:20251214T123000
DTEND;TZID=America/New_York:20251214T143000
DTSTAMP:20260424T234526
CREATED:20250903T215718Z
LAST-MODIFIED:20251117T191836Z
UID:10000021-1765715400-1765722600@hollabaughbros.com
SUMMARY:Wreath Workshop with Showers Tree Farm
DESCRIPTION:  \nCreate your own fresh mixed greens wreath with Sonya Showers of Showers Tree Farm! Your wreath can be used as a table centerpiece or to hang. No experience needed. Supplies provided: 10″ clamp style Wreath ring Various mixed greens (firs\, pines\, cedar\, holly etc.) Standard red bow Pine cones & berries Hand shears Suggested items to bring: Flexible gardening gloves Any additional decor or Bows that you would like \nCost is $45/person and all ages welcome. Pre-registration is required.
URL:https://hollabaughbros.com/event/9198/
LOCATION:Hollabaugh Bros.\, Inc.\, 545 Carlisle Road\, Biglerville\, PA\, 17307\, United States
CATEGORIES:DIY Classes
END:VEVENT
BEGIN:VEVENT
DTSTART;TZID=America/New_York:20251213T100000
DTEND;TZID=America/New_York:20251213T120000
DTSTAMP:20260424T234526
CREATED:20250903T215547Z
LAST-MODIFIED:20251117T190111Z
UID:10000020-1765620000-1765627200@hollabaughbros.com
SUMMARY:Charcuterie Class with Penn State Extension
DESCRIPTION:  \nLearn how to put a healthy twist on a popular trend in this “Let’s Cook Charcuterie Boards” workshop. This in-person class\, presented by Penn State Extension\, teaches you how to assemble delightful displays. Charcuterie board and all supplies are included in registration. \nTOPICS: \n\nThemed board components\nDelicious dip recipes\nNutritionally balanced options\n\nCost is $30/person and pre-registration is required. Register through Penn State Extension online or by calling 877-345-0691 today! Registration closes December 7th.
URL:https://hollabaughbros.com/event/charcuterie-class-with-penn-state-extension/
LOCATION:Hollabaugh Bros.\, Inc.\, 545 Carlisle Road\, Biglerville\, PA\, 17307\, United States
CATEGORIES:DIY Classes
ATTACH;FMTTYPE=image/png:https://hollabaughbros.com/wp-content/uploads/2025/09/LETS-COOK-CHARCUTERIE-BOARDS.png
END:VEVENT
BEGIN:VEVENT
DTSTART;TZID=America/New_York:20251115T100000
DTEND;TZID=America/New_York:20251115T120000
DTSTAMP:20260424T234526
CREATED:20250903T215302Z
LAST-MODIFIED:20251022T205614Z
UID:10000019-1763200800-1763208000@hollabaughbros.com
SUMMARY:SOLD OUT: Thanksgiving Centerpiece Class with Meadowbrooke Gourds
DESCRIPTION:Come celebrate Thanksgiving with us! Meadowbrooke Gourds will be offering three adorable centerpieces for you to choose from at the beginning of the class. 1)Westley Turkey that includes the 8″ tall turkey with a little turkey approximately 3″ tall\, also includes a battery operated tealight with timer. 2)Theodore Turkey that includes the 11″ tall\, 6″ diameter “bumpy” turkey with a little turkey approximately 3″ tall\, can not be lit. 3) Scalloped edge 7″ diameter gourd bowl with 12 gourd bowl fillers. \nYou will have two Meadowbrooke expert instructors to lead you through the creation and painting process or you can create on your own without instruction. It is your choice! We guarantee a fun filled two hours\, no experience required or necessary! \nCost is $35/person and pre-registration is required. This class is sold out. Watch for future class announcements coming soon!
URL:https://hollabaughbros.com/event/thanksgiving-centerpiece-class-with-meadowbrooke-gourds/
LOCATION:Hollabaugh Bros.\, Inc.\, 545 Carlisle Road\, Biglerville\, PA\, 17307\, United States
CATEGORIES:DIY Classes
END:VEVENT
BEGIN:VEVENT
DTSTART;TZID=America/New_York:20251108T100000
DTEND;TZID=America/New_York:20251108T130000
DTSTAMP:20260424T234526
CREATED:20250903T215109Z
LAST-MODIFIED:20251022T205754Z
UID:10000018-1762596000-1762606800@hollabaughbros.com
SUMMARY:SOLD OUT: Stained-Glass Class with Chris Parker
DESCRIPTION:Make your own stained-glass artwork with stained glass artist\, Chris Parker. All supplies will be provided. For this class\, you can choose between a variety of projects when you get here\, including a star\, Santa\, bells\, candy cane\, string of lights\, and more! You will learn the copper foil technique and your project will be ready to take home with you at conclusion of the class. \nCost is $55/person and includes all supplies to make your stained-glass art. Must be at least 12 years old to participate.
URL:https://hollabaughbros.com/event/9190/
LOCATION:Hollabaugh Bros.\, Inc.\, 545 Carlisle Road\, Biglerville\, PA\, 17307\, United States
CATEGORIES:DIY Classes
END:VEVENT
BEGIN:VEVENT
DTSTART;TZID=America/New_York:20251101T100000
DTEND;TZID=America/New_York:20251101T110000
DTSTAMP:20260424T234526
CREATED:20250911T162214Z
LAST-MODIFIED:20251022T210504Z
UID:10000025-1761991200-1761994800@hollabaughbros.com
SUMMARY:SOLD OUT: Sourdough Starter Class
DESCRIPTION:THIS CLASS IS CURRENTLY SOLD OUT\, BUT WE’VE ADDED ANOTHER CLASS AT 11:30!\n\n\nOur popular Sourdough Starter Class with Sweet Thyme Breads & Treats\, LLC returns for the fall season! Learn the ins and outs of how to make a sourdough starter while creating your own\, and hear about the process that goes into making the perfect loaf! Each participant will leave with their own jar of starter to begin their Sourdough journey.\n\n\nCost is $20 per person and pre-registration is required.  This class is sold out\, but we’ve added a second class at 11:30am. Register today
URL:https://hollabaughbros.com/event/sourdough-starter-class/
LOCATION:Hollabaugh Bros.\, Inc.\, 545 Carlisle Road\, Biglerville\, PA\, 17307\, United States
CATEGORIES:DIY Classes
END:VEVENT
BEGIN:VEVENT
DTSTART;TZID=America/New_York:20251018T100000
DTEND;TZID=America/New_York:20251018T120000
DTSTAMP:20260424T234526
CREATED:20250903T214920Z
LAST-MODIFIED:20250903T215345Z
UID:10000017-1760781600-1760788800@hollabaughbros.com
SUMMARY:Cookie Decorating Class with Beehive Cookie Co.
DESCRIPTION:Always wanted to decorate sugar cookies? In this fun 2 hour long class\, we will cover the basic tools used to decorate sugar cookies. We will talk about tips for cookie making + icing consistency. Then\, we will be doing 5 large themed cookies that will taste amazing and will look even better once you’ve completed your decorating! Everything you need will be provided: cookies\, icing and a box to take your cookies home! \nCost is $47/person and pre-registration is required. All ages welcome!
URL:https://hollabaughbros.com/event/9187/
LOCATION:Hollabaugh Bros.\, Inc.\, 545 Carlisle Road\, Biglerville\, PA\, 17307\, United States
CATEGORIES:DIY Classes
END:VEVENT
BEGIN:VEVENT
DTSTART;TZID=America/New_York:20250913T100000
DTEND;TZID=America/New_York:20250913T120000
DTSTAMP:20260424T234526
CREATED:20250903T213710Z
LAST-MODIFIED:20250903T213850Z
UID:10000016-1757757600-1757764800@hollabaughbros.com
SUMMARY:Canning: Jams and Jellies Class
DESCRIPTION:Learn the science behind today’s recommended methods for making and processing jam and jelly in this “Home Food Preservation: Jams and Jellies” workshop for new and experienced food preservers. Also find out about food preservation myths and unsafe practices of the past. Penn State Extension’s Home Food Preservation series explains the science\, preparation tips\, and safe processing methods you need to know to preserve delicious food at home. \nTOPICS: \n\nBasics of water bath and atmospheric steam canning for jam and jelly\nTechniques for making cooked and freezer jam and jelly.\nTypes of pectin products and use for a proper set.\nNature of various ingredients for a quality product.\nRecipes for reduced sugar and no sugar added.\nHow to troubleshoot problems.\n\nCost is $15/person and pre-registration is required. Register through Penn State Extension online or by calling 877-345-0691 today!
URL:https://hollabaughbros.com/event/9174/
LOCATION:Hollabaugh Bros.\, Inc.\, 545 Carlisle Road\, Biglerville\, PA\, 17307\, United States
CATEGORIES:DIY Classes
END:VEVENT
END:VCALENDAR