BEGIN:VCALENDAR
VERSION:2.0
PRODID:-//Welcome to Hollabaugh Bros, Inc. - ECPv6.15.20//NONSGML v1.0//EN
CALSCALE:GREGORIAN
METHOD:PUBLISH
X-ORIGINAL-URL:https://hollabaughbros.com
X-WR-CALDESC:Events for Welcome to Hollabaugh Bros, Inc.
REFRESH-INTERVAL;VALUE=DURATION:PT1H
X-Robots-Tag:noindex
X-PUBLISHED-TTL:PT1H
BEGIN:VTIMEZONE
TZID:America/New_York
BEGIN:DAYLIGHT
TZOFFSETFROM:-0500
TZOFFSETTO:-0400
TZNAME:EDT
DTSTART:20250309T070000
END:DAYLIGHT
BEGIN:STANDARD
TZOFFSETFROM:-0400
TZOFFSETTO:-0500
TZNAME:EST
DTSTART:20251102T060000
END:STANDARD
BEGIN:DAYLIGHT
TZOFFSETFROM:-0500
TZOFFSETTO:-0400
TZNAME:EDT
DTSTART:20260308T070000
END:DAYLIGHT
BEGIN:STANDARD
TZOFFSETFROM:-0400
TZOFFSETTO:-0500
TZNAME:EST
DTSTART:20261101T060000
END:STANDARD
BEGIN:DAYLIGHT
TZOFFSETFROM:-0500
TZOFFSETTO:-0400
TZNAME:EDT
DTSTART:20270314T070000
END:DAYLIGHT
BEGIN:STANDARD
TZOFFSETFROM:-0400
TZOFFSETTO:-0500
TZNAME:EST
DTSTART:20271107T060000
END:STANDARD
END:VTIMEZONE
BEGIN:VEVENT
DTSTART;TZID=America/New_York:20260610T090000
DTEND;TZID=America/New_York:20260610T100000
DTSTAMP:20260423T160923
CREATED:20260319T213342Z
LAST-MODIFIED:20260320T135532Z
UID:10002064-1781082000-1781085600@hollabaughbros.com
SUMMARY:Read\, Learn\, Grow: 9AM Session
DESCRIPTION:Join us this summer for Read\, Learn\, Grow\, a fun and engaging farm program for kids! Designed especially for children ages 3–8 (but open to kids of all ages)\, each class brings stories to life with hands-on learning right here on the farm. \nWeekly Topics will be announced soon!! \nEvery session includes:\n📖 A themed story time\n🎨 A craft or creative activity\n🚜 Hands-on farm experiences like picking blueberries\, digging potatoes\, and exploring how food grows\n💲 Cost: $10 per class\n🌞 Come for one class or join us all summer long! \nBring your curiosity\, your love of exploring\, and clothes that can get a little messy—we’ll take care of the rest. Cost is $10 per child/session and pre-registration is required. Sign up for one or all sessions today! Sign up for all sessions\, receive one session FREE!
URL:https://hollabaughbros.com/event/read-learn-grow-wednesday-9am-session/2026-06-10/
LOCATION:Hollabaugh Bros.\, Inc.\, 545 Carlisle Road\, Biglerville\, PA\, 17307\, United States
CATEGORIES:Read, Learn, Grow
ATTACH;FMTTYPE=image/png:https://hollabaughbros.com/wp-content/uploads/2026/03/event-images-2.png
END:VEVENT
BEGIN:VEVENT
DTSTART;TZID=America/New_York:20260610T103000
DTEND;TZID=America/New_York:20260610T113000
DTSTAMP:20260423T160923
CREATED:20260319T214515Z
LAST-MODIFIED:20260320T135614Z
UID:10002095-1781087400-1781091000@hollabaughbros.com
SUMMARY:Read\, Learn\, Grow: 10:30AM Session
DESCRIPTION:Join us this summer for Read\, Learn\, Grow\, a fun and engaging farm program for kids! Designed especially for children ages 3–8 (but open to kids of all ages)\, each class brings stories to life with hands-on learning right here on the farm. \nWeekly Topics will be announced soon!! \nEvery session includes:\n📖 A themed story time\n🎨 A craft or creative activity\n🚜 Hands-on farm experiences like picking blueberries\, digging potatoes\, and exploring how food grows\n💲 Cost: $10 per class\n🌞 Come for one class or join us all summer long! \nBring your curiosity\, your love of exploring\, and clothes that can get a little messy—we’ll take care of the rest. Cost is $10 per child/session and pre-registration is required. Sign up for one or all sessions today! Sign up for all sessions\, receive one session FREE!
URL:https://hollabaughbros.com/event/read-learn-grow-wednesday-1030am-session/2026-06-10/
LOCATION:Hollabaugh Bros.\, Inc.\, 545 Carlisle Road\, Biglerville\, PA\, 17307\, United States
CATEGORIES:Read, Learn, Grow
ATTACH;FMTTYPE=image/png:https://hollabaughbros.com/wp-content/uploads/2026/03/event-images-2.png
END:VEVENT
BEGIN:VEVENT
DTSTART;TZID=America/New_York:20260617T090000
DTEND;TZID=America/New_York:20260617T100000
DTSTAMP:20260423T160923
CREATED:20260319T213342Z
LAST-MODIFIED:20260320T135532Z
UID:10002065-1781686800-1781690400@hollabaughbros.com
SUMMARY:Read\, Learn\, Grow: 9AM Session
DESCRIPTION:Join us this summer for Read\, Learn\, Grow\, a fun and engaging farm program for kids! Designed especially for children ages 3–8 (but open to kids of all ages)\, each class brings stories to life with hands-on learning right here on the farm. \nWeekly Topics will be announced soon!! \nEvery session includes:\n📖 A themed story time\n🎨 A craft or creative activity\n🚜 Hands-on farm experiences like picking blueberries\, digging potatoes\, and exploring how food grows\n💲 Cost: $10 per class\n🌞 Come for one class or join us all summer long! \nBring your curiosity\, your love of exploring\, and clothes that can get a little messy—we’ll take care of the rest. Cost is $10 per child/session and pre-registration is required. Sign up for one or all sessions today! Sign up for all sessions\, receive one session FREE!
URL:https://hollabaughbros.com/event/read-learn-grow-wednesday-9am-session/2026-06-17/
LOCATION:Hollabaugh Bros.\, Inc.\, 545 Carlisle Road\, Biglerville\, PA\, 17307\, United States
CATEGORIES:Read, Learn, Grow
ATTACH;FMTTYPE=image/png:https://hollabaughbros.com/wp-content/uploads/2026/03/event-images-2.png
END:VEVENT
BEGIN:VEVENT
DTSTART;TZID=America/New_York:20260617T103000
DTEND;TZID=America/New_York:20260617T113000
DTSTAMP:20260423T160923
CREATED:20260319T214515Z
LAST-MODIFIED:20260320T135614Z
UID:10002096-1781692200-1781695800@hollabaughbros.com
SUMMARY:Read\, Learn\, Grow: 10:30AM Session
DESCRIPTION:Join us this summer for Read\, Learn\, Grow\, a fun and engaging farm program for kids! Designed especially for children ages 3–8 (but open to kids of all ages)\, each class brings stories to life with hands-on learning right here on the farm. \nWeekly Topics will be announced soon!! \nEvery session includes:\n📖 A themed story time\n🎨 A craft or creative activity\n🚜 Hands-on farm experiences like picking blueberries\, digging potatoes\, and exploring how food grows\n💲 Cost: $10 per class\n🌞 Come for one class or join us all summer long! \nBring your curiosity\, your love of exploring\, and clothes that can get a little messy—we’ll take care of the rest. Cost is $10 per child/session and pre-registration is required. Sign up for one or all sessions today! Sign up for all sessions\, receive one session FREE!
URL:https://hollabaughbros.com/event/read-learn-grow-wednesday-1030am-session/2026-06-17/
LOCATION:Hollabaugh Bros.\, Inc.\, 545 Carlisle Road\, Biglerville\, PA\, 17307\, United States
CATEGORIES:Read, Learn, Grow
ATTACH;FMTTYPE=image/png:https://hollabaughbros.com/wp-content/uploads/2026/03/event-images-2.png
END:VEVENT
BEGIN:VEVENT
DTSTART;TZID=America/New_York:20260624T090000
DTEND;TZID=America/New_York:20260624T100000
DTSTAMP:20260423T160923
CREATED:20260319T213342Z
LAST-MODIFIED:20260320T135532Z
UID:10002066-1782291600-1782295200@hollabaughbros.com
SUMMARY:Read\, Learn\, Grow: 9AM Session
DESCRIPTION:Join us this summer for Read\, Learn\, Grow\, a fun and engaging farm program for kids! Designed especially for children ages 3–8 (but open to kids of all ages)\, each class brings stories to life with hands-on learning right here on the farm. \nWeekly Topics will be announced soon!! \nEvery session includes:\n📖 A themed story time\n🎨 A craft or creative activity\n🚜 Hands-on farm experiences like picking blueberries\, digging potatoes\, and exploring how food grows\n💲 Cost: $10 per class\n🌞 Come for one class or join us all summer long! \nBring your curiosity\, your love of exploring\, and clothes that can get a little messy—we’ll take care of the rest. Cost is $10 per child/session and pre-registration is required. Sign up for one or all sessions today! Sign up for all sessions\, receive one session FREE!
URL:https://hollabaughbros.com/event/read-learn-grow-wednesday-9am-session/2026-06-24/
LOCATION:Hollabaugh Bros.\, Inc.\, 545 Carlisle Road\, Biglerville\, PA\, 17307\, United States
CATEGORIES:Read, Learn, Grow
ATTACH;FMTTYPE=image/png:https://hollabaughbros.com/wp-content/uploads/2026/03/event-images-2.png
END:VEVENT
BEGIN:VEVENT
DTSTART;TZID=America/New_York:20260624T103000
DTEND;TZID=America/New_York:20260624T113000
DTSTAMP:20260423T160923
CREATED:20260319T214515Z
LAST-MODIFIED:20260320T135614Z
UID:10002097-1782297000-1782300600@hollabaughbros.com
SUMMARY:Read\, Learn\, Grow: 10:30AM Session
DESCRIPTION:Join us this summer for Read\, Learn\, Grow\, a fun and engaging farm program for kids! Designed especially for children ages 3–8 (but open to kids of all ages)\, each class brings stories to life with hands-on learning right here on the farm. \nWeekly Topics will be announced soon!! \nEvery session includes:\n📖 A themed story time\n🎨 A craft or creative activity\n🚜 Hands-on farm experiences like picking blueberries\, digging potatoes\, and exploring how food grows\n💲 Cost: $10 per class\n🌞 Come for one class or join us all summer long! \nBring your curiosity\, your love of exploring\, and clothes that can get a little messy—we’ll take care of the rest. Cost is $10 per child/session and pre-registration is required. Sign up for one or all sessions today! Sign up for all sessions\, receive one session FREE!
URL:https://hollabaughbros.com/event/read-learn-grow-wednesday-1030am-session/2026-06-24/
LOCATION:Hollabaugh Bros.\, Inc.\, 545 Carlisle Road\, Biglerville\, PA\, 17307\, United States
CATEGORIES:Read, Learn, Grow
ATTACH;FMTTYPE=image/png:https://hollabaughbros.com/wp-content/uploads/2026/03/event-images-2.png
END:VEVENT
BEGIN:VEVENT
DTSTART;TZID=America/New_York:20260701T090000
DTEND;TZID=America/New_York:20260701T100000
DTSTAMP:20260423T160923
CREATED:20260319T213342Z
LAST-MODIFIED:20260320T135532Z
UID:10002067-1782896400-1782900000@hollabaughbros.com
SUMMARY:Read\, Learn\, Grow: 9AM Session
DESCRIPTION:Join us this summer for Read\, Learn\, Grow\, a fun and engaging farm program for kids! Designed especially for children ages 3–8 (but open to kids of all ages)\, each class brings stories to life with hands-on learning right here on the farm. \nWeekly Topics will be announced soon!! \nEvery session includes:\n📖 A themed story time\n🎨 A craft or creative activity\n🚜 Hands-on farm experiences like picking blueberries\, digging potatoes\, and exploring how food grows\n💲 Cost: $10 per class\n🌞 Come for one class or join us all summer long! \nBring your curiosity\, your love of exploring\, and clothes that can get a little messy—we’ll take care of the rest. Cost is $10 per child/session and pre-registration is required. Sign up for one or all sessions today! Sign up for all sessions\, receive one session FREE!
URL:https://hollabaughbros.com/event/read-learn-grow-wednesday-9am-session/2026-07-01/
LOCATION:Hollabaugh Bros.\, Inc.\, 545 Carlisle Road\, Biglerville\, PA\, 17307\, United States
CATEGORIES:Read, Learn, Grow
ATTACH;FMTTYPE=image/png:https://hollabaughbros.com/wp-content/uploads/2026/03/event-images-2.png
END:VEVENT
BEGIN:VEVENT
DTSTART;TZID=America/New_York:20260701T103000
DTEND;TZID=America/New_York:20260701T113000
DTSTAMP:20260423T160923
CREATED:20260319T214515Z
LAST-MODIFIED:20260320T135614Z
UID:10002098-1782901800-1782905400@hollabaughbros.com
SUMMARY:Read\, Learn\, Grow: 10:30AM Session
DESCRIPTION:Join us this summer for Read\, Learn\, Grow\, a fun and engaging farm program for kids! Designed especially for children ages 3–8 (but open to kids of all ages)\, each class brings stories to life with hands-on learning right here on the farm. \nWeekly Topics will be announced soon!! \nEvery session includes:\n📖 A themed story time\n🎨 A craft or creative activity\n🚜 Hands-on farm experiences like picking blueberries\, digging potatoes\, and exploring how food grows\n💲 Cost: $10 per class\n🌞 Come for one class or join us all summer long! \nBring your curiosity\, your love of exploring\, and clothes that can get a little messy—we’ll take care of the rest. Cost is $10 per child/session and pre-registration is required. Sign up for one or all sessions today! Sign up for all sessions\, receive one session FREE!
URL:https://hollabaughbros.com/event/read-learn-grow-wednesday-1030am-session/2026-07-01/
LOCATION:Hollabaugh Bros.\, Inc.\, 545 Carlisle Road\, Biglerville\, PA\, 17307\, United States
CATEGORIES:Read, Learn, Grow
ATTACH;FMTTYPE=image/png:https://hollabaughbros.com/wp-content/uploads/2026/03/event-images-2.png
END:VEVENT
BEGIN:VEVENT
DTSTART;TZID=America/New_York:20260708T090000
DTEND;TZID=America/New_York:20260708T100000
DTSTAMP:20260423T160923
CREATED:20260319T213342Z
LAST-MODIFIED:20260320T135532Z
UID:10002068-1783501200-1783504800@hollabaughbros.com
SUMMARY:Read\, Learn\, Grow: 9AM Session
DESCRIPTION:Join us this summer for Read\, Learn\, Grow\, a fun and engaging farm program for kids! Designed especially for children ages 3–8 (but open to kids of all ages)\, each class brings stories to life with hands-on learning right here on the farm. \nWeekly Topics will be announced soon!! \nEvery session includes:\n📖 A themed story time\n🎨 A craft or creative activity\n🚜 Hands-on farm experiences like picking blueberries\, digging potatoes\, and exploring how food grows\n💲 Cost: $10 per class\n🌞 Come for one class or join us all summer long! \nBring your curiosity\, your love of exploring\, and clothes that can get a little messy—we’ll take care of the rest. Cost is $10 per child/session and pre-registration is required. Sign up for one or all sessions today! Sign up for all sessions\, receive one session FREE!
URL:https://hollabaughbros.com/event/read-learn-grow-wednesday-9am-session/2026-07-08/
LOCATION:Hollabaugh Bros.\, Inc.\, 545 Carlisle Road\, Biglerville\, PA\, 17307\, United States
CATEGORIES:Read, Learn, Grow
ATTACH;FMTTYPE=image/png:https://hollabaughbros.com/wp-content/uploads/2026/03/event-images-2.png
END:VEVENT
BEGIN:VEVENT
DTSTART;TZID=America/New_York:20260708T103000
DTEND;TZID=America/New_York:20260708T113000
DTSTAMP:20260423T160923
CREATED:20260319T214515Z
LAST-MODIFIED:20260320T135614Z
UID:10002099-1783506600-1783510200@hollabaughbros.com
SUMMARY:Read\, Learn\, Grow: 10:30AM Session
DESCRIPTION:Join us this summer for Read\, Learn\, Grow\, a fun and engaging farm program for kids! Designed especially for children ages 3–8 (but open to kids of all ages)\, each class brings stories to life with hands-on learning right here on the farm. \nWeekly Topics will be announced soon!! \nEvery session includes:\n📖 A themed story time\n🎨 A craft or creative activity\n🚜 Hands-on farm experiences like picking blueberries\, digging potatoes\, and exploring how food grows\n💲 Cost: $10 per class\n🌞 Come for one class or join us all summer long! \nBring your curiosity\, your love of exploring\, and clothes that can get a little messy—we’ll take care of the rest. Cost is $10 per child/session and pre-registration is required. Sign up for one or all sessions today! Sign up for all sessions\, receive one session FREE!
URL:https://hollabaughbros.com/event/read-learn-grow-wednesday-1030am-session/2026-07-08/
LOCATION:Hollabaugh Bros.\, Inc.\, 545 Carlisle Road\, Biglerville\, PA\, 17307\, United States
CATEGORIES:Read, Learn, Grow
ATTACH;FMTTYPE=image/png:https://hollabaughbros.com/wp-content/uploads/2026/03/event-images-2.png
END:VEVENT
BEGIN:VEVENT
DTSTART;TZID=America/New_York:20260715T090000
DTEND;TZID=America/New_York:20260715T100000
DTSTAMP:20260423T160923
CREATED:20260319T213342Z
LAST-MODIFIED:20260320T135532Z
UID:10002069-1784106000-1784109600@hollabaughbros.com
SUMMARY:Read\, Learn\, Grow: 9AM Session
DESCRIPTION:Join us this summer for Read\, Learn\, Grow\, a fun and engaging farm program for kids! Designed especially for children ages 3–8 (but open to kids of all ages)\, each class brings stories to life with hands-on learning right here on the farm. \nWeekly Topics will be announced soon!! \nEvery session includes:\n📖 A themed story time\n🎨 A craft or creative activity\n🚜 Hands-on farm experiences like picking blueberries\, digging potatoes\, and exploring how food grows\n💲 Cost: $10 per class\n🌞 Come for one class or join us all summer long! \nBring your curiosity\, your love of exploring\, and clothes that can get a little messy—we’ll take care of the rest. Cost is $10 per child/session and pre-registration is required. Sign up for one or all sessions today! Sign up for all sessions\, receive one session FREE!
URL:https://hollabaughbros.com/event/read-learn-grow-wednesday-9am-session/2026-07-15/
LOCATION:Hollabaugh Bros.\, Inc.\, 545 Carlisle Road\, Biglerville\, PA\, 17307\, United States
CATEGORIES:Read, Learn, Grow
ATTACH;FMTTYPE=image/png:https://hollabaughbros.com/wp-content/uploads/2026/03/event-images-2.png
END:VEVENT
BEGIN:VEVENT
DTSTART;TZID=America/New_York:20260715T103000
DTEND;TZID=America/New_York:20260715T113000
DTSTAMP:20260423T160923
CREATED:20260319T214515Z
LAST-MODIFIED:20260320T135614Z
UID:10002100-1784111400-1784115000@hollabaughbros.com
SUMMARY:Read\, Learn\, Grow: 10:30AM Session
DESCRIPTION:Join us this summer for Read\, Learn\, Grow\, a fun and engaging farm program for kids! Designed especially for children ages 3–8 (but open to kids of all ages)\, each class brings stories to life with hands-on learning right here on the farm. \nWeekly Topics will be announced soon!! \nEvery session includes:\n📖 A themed story time\n🎨 A craft or creative activity\n🚜 Hands-on farm experiences like picking blueberries\, digging potatoes\, and exploring how food grows\n💲 Cost: $10 per class\n🌞 Come for one class or join us all summer long! \nBring your curiosity\, your love of exploring\, and clothes that can get a little messy—we’ll take care of the rest. Cost is $10 per child/session and pre-registration is required. Sign up for one or all sessions today! Sign up for all sessions\, receive one session FREE!
URL:https://hollabaughbros.com/event/read-learn-grow-wednesday-1030am-session/2026-07-15/
LOCATION:Hollabaugh Bros.\, Inc.\, 545 Carlisle Road\, Biglerville\, PA\, 17307\, United States
CATEGORIES:Read, Learn, Grow
ATTACH;FMTTYPE=image/png:https://hollabaughbros.com/wp-content/uploads/2026/03/event-images-2.png
END:VEVENT
BEGIN:VEVENT
DTSTART;TZID=America/New_York:20260722T090000
DTEND;TZID=America/New_York:20260722T100000
DTSTAMP:20260423T160923
CREATED:20260319T213342Z
LAST-MODIFIED:20260320T135532Z
UID:10002070-1784710800-1784714400@hollabaughbros.com
SUMMARY:Read\, Learn\, Grow: 9AM Session
DESCRIPTION:Join us this summer for Read\, Learn\, Grow\, a fun and engaging farm program for kids! Designed especially for children ages 3–8 (but open to kids of all ages)\, each class brings stories to life with hands-on learning right here on the farm. \nWeekly Topics will be announced soon!! \nEvery session includes:\n📖 A themed story time\n🎨 A craft or creative activity\n🚜 Hands-on farm experiences like picking blueberries\, digging potatoes\, and exploring how food grows\n💲 Cost: $10 per class\n🌞 Come for one class or join us all summer long! \nBring your curiosity\, your love of exploring\, and clothes that can get a little messy—we’ll take care of the rest. Cost is $10 per child/session and pre-registration is required. Sign up for one or all sessions today! Sign up for all sessions\, receive one session FREE!
URL:https://hollabaughbros.com/event/read-learn-grow-wednesday-9am-session/2026-07-22/
LOCATION:Hollabaugh Bros.\, Inc.\, 545 Carlisle Road\, Biglerville\, PA\, 17307\, United States
CATEGORIES:Read, Learn, Grow
ATTACH;FMTTYPE=image/png:https://hollabaughbros.com/wp-content/uploads/2026/03/event-images-2.png
END:VEVENT
BEGIN:VEVENT
DTSTART;TZID=America/New_York:20260722T103000
DTEND;TZID=America/New_York:20260722T113000
DTSTAMP:20260423T160923
CREATED:20260319T214515Z
LAST-MODIFIED:20260320T135614Z
UID:10002101-1784716200-1784719800@hollabaughbros.com
SUMMARY:Read\, Learn\, Grow: 10:30AM Session
DESCRIPTION:Join us this summer for Read\, Learn\, Grow\, a fun and engaging farm program for kids! Designed especially for children ages 3–8 (but open to kids of all ages)\, each class brings stories to life with hands-on learning right here on the farm. \nWeekly Topics will be announced soon!! \nEvery session includes:\n📖 A themed story time\n🎨 A craft or creative activity\n🚜 Hands-on farm experiences like picking blueberries\, digging potatoes\, and exploring how food grows\n💲 Cost: $10 per class\n🌞 Come for one class or join us all summer long! \nBring your curiosity\, your love of exploring\, and clothes that can get a little messy—we’ll take care of the rest. Cost is $10 per child/session and pre-registration is required. Sign up for one or all sessions today! Sign up for all sessions\, receive one session FREE!
URL:https://hollabaughbros.com/event/read-learn-grow-wednesday-1030am-session/2026-07-22/
LOCATION:Hollabaugh Bros.\, Inc.\, 545 Carlisle Road\, Biglerville\, PA\, 17307\, United States
CATEGORIES:Read, Learn, Grow
ATTACH;FMTTYPE=image/png:https://hollabaughbros.com/wp-content/uploads/2026/03/event-images-2.png
END:VEVENT
BEGIN:VEVENT
DTSTART;TZID=America/New_York:20260729T090000
DTEND;TZID=America/New_York:20260729T100000
DTSTAMP:20260423T160923
CREATED:20260319T213342Z
LAST-MODIFIED:20260320T135532Z
UID:10002071-1785315600-1785319200@hollabaughbros.com
SUMMARY:Read\, Learn\, Grow: 9AM Session
DESCRIPTION:Join us this summer for Read\, Learn\, Grow\, a fun and engaging farm program for kids! Designed especially for children ages 3–8 (but open to kids of all ages)\, each class brings stories to life with hands-on learning right here on the farm. \nWeekly Topics will be announced soon!! \nEvery session includes:\n📖 A themed story time\n🎨 A craft or creative activity\n🚜 Hands-on farm experiences like picking blueberries\, digging potatoes\, and exploring how food grows\n💲 Cost: $10 per class\n🌞 Come for one class or join us all summer long! \nBring your curiosity\, your love of exploring\, and clothes that can get a little messy—we’ll take care of the rest. Cost is $10 per child/session and pre-registration is required. Sign up for one or all sessions today! Sign up for all sessions\, receive one session FREE!
URL:https://hollabaughbros.com/event/read-learn-grow-wednesday-9am-session/2026-07-29/
LOCATION:Hollabaugh Bros.\, Inc.\, 545 Carlisle Road\, Biglerville\, PA\, 17307\, United States
CATEGORIES:Read, Learn, Grow
ATTACH;FMTTYPE=image/png:https://hollabaughbros.com/wp-content/uploads/2026/03/event-images-2.png
END:VEVENT
BEGIN:VEVENT
DTSTART;TZID=America/New_York:20260729T103000
DTEND;TZID=America/New_York:20260729T113000
DTSTAMP:20260423T160923
CREATED:20260319T214515Z
LAST-MODIFIED:20260320T135614Z
UID:10002102-1785321000-1785324600@hollabaughbros.com
SUMMARY:Read\, Learn\, Grow: 10:30AM Session
DESCRIPTION:Join us this summer for Read\, Learn\, Grow\, a fun and engaging farm program for kids! Designed especially for children ages 3–8 (but open to kids of all ages)\, each class brings stories to life with hands-on learning right here on the farm. \nWeekly Topics will be announced soon!! \nEvery session includes:\n📖 A themed story time\n🎨 A craft or creative activity\n🚜 Hands-on farm experiences like picking blueberries\, digging potatoes\, and exploring how food grows\n💲 Cost: $10 per class\n🌞 Come for one class or join us all summer long! \nBring your curiosity\, your love of exploring\, and clothes that can get a little messy—we’ll take care of the rest. Cost is $10 per child/session and pre-registration is required. Sign up for one or all sessions today! Sign up for all sessions\, receive one session FREE!
URL:https://hollabaughbros.com/event/read-learn-grow-wednesday-1030am-session/2026-07-29/
LOCATION:Hollabaugh Bros.\, Inc.\, 545 Carlisle Road\, Biglerville\, PA\, 17307\, United States
CATEGORIES:Read, Learn, Grow
ATTACH;FMTTYPE=image/png:https://hollabaughbros.com/wp-content/uploads/2026/03/event-images-2.png
END:VEVENT
BEGIN:VEVENT
DTSTART;TZID=America/New_York:20260805T090000
DTEND;TZID=America/New_York:20260805T100000
DTSTAMP:20260423T160924
CREATED:20260319T213342Z
LAST-MODIFIED:20260320T135532Z
UID:10002072-1785920400-1785924000@hollabaughbros.com
SUMMARY:Read\, Learn\, Grow: 9AM Session
DESCRIPTION:Join us this summer for Read\, Learn\, Grow\, a fun and engaging farm program for kids! Designed especially for children ages 3–8 (but open to kids of all ages)\, each class brings stories to life with hands-on learning right here on the farm. \nWeekly Topics will be announced soon!! \nEvery session includes:\n📖 A themed story time\n🎨 A craft or creative activity\n🚜 Hands-on farm experiences like picking blueberries\, digging potatoes\, and exploring how food grows\n💲 Cost: $10 per class\n🌞 Come for one class or join us all summer long! \nBring your curiosity\, your love of exploring\, and clothes that can get a little messy—we’ll take care of the rest. Cost is $10 per child/session and pre-registration is required. Sign up for one or all sessions today! Sign up for all sessions\, receive one session FREE!
URL:https://hollabaughbros.com/event/read-learn-grow-wednesday-9am-session/2026-08-05/
LOCATION:Hollabaugh Bros.\, Inc.\, 545 Carlisle Road\, Biglerville\, PA\, 17307\, United States
CATEGORIES:Read, Learn, Grow
ATTACH;FMTTYPE=image/png:https://hollabaughbros.com/wp-content/uploads/2026/03/event-images-2.png
END:VEVENT
BEGIN:VEVENT
DTSTART;TZID=America/New_York:20260805T103000
DTEND;TZID=America/New_York:20260805T113000
DTSTAMP:20260423T160924
CREATED:20260319T214515Z
LAST-MODIFIED:20260320T135614Z
UID:10002103-1785925800-1785929400@hollabaughbros.com
SUMMARY:Read\, Learn\, Grow: 10:30AM Session
DESCRIPTION:Join us this summer for Read\, Learn\, Grow\, a fun and engaging farm program for kids! Designed especially for children ages 3–8 (but open to kids of all ages)\, each class brings stories to life with hands-on learning right here on the farm. \nWeekly Topics will be announced soon!! \nEvery session includes:\n📖 A themed story time\n🎨 A craft or creative activity\n🚜 Hands-on farm experiences like picking blueberries\, digging potatoes\, and exploring how food grows\n💲 Cost: $10 per class\n🌞 Come for one class or join us all summer long! \nBring your curiosity\, your love of exploring\, and clothes that can get a little messy—we’ll take care of the rest. Cost is $10 per child/session and pre-registration is required. Sign up for one or all sessions today! Sign up for all sessions\, receive one session FREE!
URL:https://hollabaughbros.com/event/read-learn-grow-wednesday-1030am-session/2026-08-05/
LOCATION:Hollabaugh Bros.\, Inc.\, 545 Carlisle Road\, Biglerville\, PA\, 17307\, United States
CATEGORIES:Read, Learn, Grow
ATTACH;FMTTYPE=image/png:https://hollabaughbros.com/wp-content/uploads/2026/03/event-images-2.png
END:VEVENT
END:VCALENDAR