BEGIN:VCALENDAR
VERSION:2.0
PRODID:-//Welcome to Hollabaugh Bros, Inc. - ECPv6.15.20//NONSGML v1.0//EN
CALSCALE:GREGORIAN
METHOD:PUBLISH
X-WR-CALNAME:Welcome to Hollabaugh Bros, Inc.
X-ORIGINAL-URL:https://hollabaughbros.com
X-WR-CALDESC:Events for Welcome to Hollabaugh Bros, Inc.
REFRESH-INTERVAL;VALUE=DURATION:PT1H
X-Robots-Tag:noindex
X-PUBLISHED-TTL:PT1H
BEGIN:VTIMEZONE
TZID:America/New_York
BEGIN:DAYLIGHT
TZOFFSETFROM:-0500
TZOFFSETTO:-0400
TZNAME:EDT
DTSTART:20240310T070000
END:DAYLIGHT
BEGIN:STANDARD
TZOFFSETFROM:-0400
TZOFFSETTO:-0500
TZNAME:EST
DTSTART:20241103T060000
END:STANDARD
BEGIN:DAYLIGHT
TZOFFSETFROM:-0500
TZOFFSETTO:-0400
TZNAME:EDT
DTSTART:20250309T070000
END:DAYLIGHT
BEGIN:STANDARD
TZOFFSETFROM:-0400
TZOFFSETTO:-0500
TZNAME:EST
DTSTART:20251102T060000
END:STANDARD
BEGIN:DAYLIGHT
TZOFFSETFROM:-0500
TZOFFSETTO:-0400
TZNAME:EDT
DTSTART:20260308T070000
END:DAYLIGHT
BEGIN:STANDARD
TZOFFSETFROM:-0400
TZOFFSETTO:-0500
TZNAME:EST
DTSTART:20261101T060000
END:STANDARD
END:VTIMEZONE
BEGIN:VEVENT
DTSTART;TZID=America/New_York:20251206T090000
DTEND;TZID=America/New_York:20251206T170000
DTSTAMP:20260424T020801
CREATED:20250903T220131Z
LAST-MODIFIED:20251117T193158Z
UID:10000023-1765011600-1765040400@hollabaughbros.com
SUMMARY:16th Annual Holiday Open House
DESCRIPTION:  \nIt’s beginning to look a lot like Christmas around the market. Make plans to attend our 16th Annual Holiday Open House\, December 5-7. We’ll have refreshments\, sales\, holiday music\, a craft for kids\, a special visitor from the North Pole\, and plenty of holiday cheer. \nFind seasonal gift items and decorations to prepare your home for the holidays. We’re also bringing back our Gingerbread House Deals … at checkout\, pick a gingerbread house and reveal your Gingerbread Deal when you spend $10 or more. \nSanta will be visiting the market Saturday\, 10am-2pm and Sunday\, 1-3pm. Come and join our festive spirit and share in the holiday cheer at Hollabaugh’s!
URL:https://hollabaughbros.com/event/16th-annual-holiday-open-house/2025-12-06/
LOCATION:Hollabaugh Bros.\, Inc.\, 545 Carlisle Road\, Biglerville\, PA\, 17307\, United States
CATEGORIES:Family Event
END:VEVENT
BEGIN:VEVENT
DTSTART;TZID=America/New_York:20251205T090000
DTEND;TZID=America/New_York:20251205T170000
DTSTAMP:20260424T020801
CREATED:20250903T220131Z
LAST-MODIFIED:20251117T193158Z
UID:10000933-1764925200-1764954000@hollabaughbros.com
SUMMARY:16th Annual Holiday Open House
DESCRIPTION:  \nIt’s beginning to look a lot like Christmas around the market. Make plans to attend our 16th Annual Holiday Open House\, December 5-7. We’ll have refreshments\, sales\, holiday music\, a craft for kids\, a special visitor from the North Pole\, and plenty of holiday cheer. \nFind seasonal gift items and decorations to prepare your home for the holidays. We’re also bringing back our Gingerbread House Deals … at checkout\, pick a gingerbread house and reveal your Gingerbread Deal when you spend $10 or more. \nSanta will be visiting the market Saturday\, 10am-2pm and Sunday\, 1-3pm. Come and join our festive spirit and share in the holiday cheer at Hollabaugh’s!
URL:https://hollabaughbros.com/event/16th-annual-holiday-open-house/2025-12-05/
LOCATION:Hollabaugh Bros.\, Inc.\, 545 Carlisle Road\, Biglerville\, PA\, 17307\, United States
CATEGORIES:Family Event
END:VEVENT
BEGIN:VEVENT
DTSTART;TZID=America/New_York:20251115T100000
DTEND;TZID=America/New_York:20251115T120000
DTSTAMP:20260424T020801
CREATED:20250903T215302Z
LAST-MODIFIED:20251022T205614Z
UID:10000019-1763200800-1763208000@hollabaughbros.com
SUMMARY:SOLD OUT: Thanksgiving Centerpiece Class with Meadowbrooke Gourds
DESCRIPTION:Come celebrate Thanksgiving with us! Meadowbrooke Gourds will be offering three adorable centerpieces for you to choose from at the beginning of the class. 1)Westley Turkey that includes the 8″ tall turkey with a little turkey approximately 3″ tall\, also includes a battery operated tealight with timer. 2)Theodore Turkey that includes the 11″ tall\, 6″ diameter “bumpy” turkey with a little turkey approximately 3″ tall\, can not be lit. 3) Scalloped edge 7″ diameter gourd bowl with 12 gourd bowl fillers. \nYou will have two Meadowbrooke expert instructors to lead you through the creation and painting process or you can create on your own without instruction. It is your choice! We guarantee a fun filled two hours\, no experience required or necessary! \nCost is $35/person and pre-registration is required. This class is sold out. Watch for future class announcements coming soon!
URL:https://hollabaughbros.com/event/thanksgiving-centerpiece-class-with-meadowbrooke-gourds/
LOCATION:Hollabaugh Bros.\, Inc.\, 545 Carlisle Road\, Biglerville\, PA\, 17307\, United States
CATEGORIES:DIY Classes
END:VEVENT
BEGIN:VEVENT
DTSTART;TZID=America/New_York:20251113T150000
DTEND;TZID=America/New_York:20251113T160000
DTSTAMP:20260424T020801
CREATED:20250903T210928Z
LAST-MODIFIED:20250903T213903Z
UID:10000010-1763046000-1763049600@hollabaughbros.com
SUMMARY:Li'l Dumplings: Fall Series
DESCRIPTION:Thursdays\, October 2nd –November 13th\, 3-4pm\n  \nOur Li’l Dumplings programing is recommended for children ages 2-5\, with a caregiver. Cost is $10/child per session. Sign up for one or multiple sessions today. Sign up for all 7 sessions and get 1 session free. Pre-registration is required. \nTentative Weekly Topics*: \n\nOct. 2 – Apples\nOct. 9 – Wagon Ride\nOct. 16 – Pumpkins\nOct. 21 – Baking\nOct. 30 – Leaves\nNov. 6 – Animals\nNov. 13 – Thanksgiving\n\n*PLEASE NOTE: These session topics are tentative and subject to change based on weather and crop season. \n 
URL:https://hollabaughbros.com/event/lil-dumplings-fall-series-session-7/
LOCATION:Hollabaugh Bros.\, Inc.\, 545 Carlisle Road\, Biglerville\, PA\, 17307\, United States
CATEGORIES:Li'l Dumplings
END:VEVENT
BEGIN:VEVENT
DTSTART;TZID=America/New_York:20251108T100000
DTEND;TZID=America/New_York:20251108T130000
DTSTAMP:20260424T020801
CREATED:20250903T215109Z
LAST-MODIFIED:20251022T205754Z
UID:10000018-1762596000-1762606800@hollabaughbros.com
SUMMARY:SOLD OUT: Stained-Glass Class with Chris Parker
DESCRIPTION:Make your own stained-glass artwork with stained glass artist\, Chris Parker. All supplies will be provided. For this class\, you can choose between a variety of projects when you get here\, including a star\, Santa\, bells\, candy cane\, string of lights\, and more! You will learn the copper foil technique and your project will be ready to take home with you at conclusion of the class. \nCost is $55/person and includes all supplies to make your stained-glass art. Must be at least 12 years old to participate.
URL:https://hollabaughbros.com/event/9190/
LOCATION:Hollabaugh Bros.\, Inc.\, 545 Carlisle Road\, Biglerville\, PA\, 17307\, United States
CATEGORIES:DIY Classes
END:VEVENT
BEGIN:VEVENT
DTSTART;TZID=America/New_York:20251106T150000
DTEND;TZID=America/New_York:20251106T160000
DTSTAMP:20260424T020801
CREATED:20250903T210826Z
LAST-MODIFIED:20250903T213918Z
UID:10000009-1762441200-1762444800@hollabaughbros.com
SUMMARY:Li'l Dumplings: Fall Series
DESCRIPTION:Thursdays\, October 2nd –November 13th\, 3-4pm\n  \nOur Li’l Dumplings programing is recommended for children ages 2-5\, with a caregiver. Cost is $10/child per session. Sign up for one or multiple sessions today. Sign up for all 7 sessions and get 1 session free. Pre-registration is required. \nTentative Weekly Topics*: \n\nOct. 2 – Apples\nOct. 9 – Wagon Ride\nOct. 16 – Pumpkins\nOct. 21 – Baking\nOct. 30 – Leaves\nNov. 6 – Animals\nNov. 13 – Thanksgiving\n\n*PLEASE NOTE: These session topics are tentative and subject to change based on weather and crop season. \n 
URL:https://hollabaughbros.com/event/lil-dumplings-fall-series-6/
LOCATION:Hollabaugh Bros.\, Inc.\, 545 Carlisle Road\, Biglerville\, PA\, 17307\, United States
CATEGORIES:Li'l Dumplings
END:VEVENT
BEGIN:VEVENT
DTSTART;TZID=America/New_York:20251101T113000
DTEND;TZID=America/New_York:20251101T123000
DTSTAMP:20260424T020801
CREATED:20251001T151059Z
LAST-MODIFIED:20251027T173602Z
UID:10000026-1761996600-1762000200@hollabaughbros.com
SUMMARY:SOLD OUT: Sourdough Starter Class
DESCRIPTION:  \nWe’ve added a second class to the calendar since the first class sold out so quickly. Join us for our popular Sourdough Starter Class with Sweet Thyme Breads & Treats\, LLC! Learn the ins and outs of how to make a sourdough starter while creating your own\, and hear about the process that goes into making the perfect loaf! Each participant will leave with their own jar of starter to begin their Sourdough journey.\n\n\nCost is $20 per person and pre-registration is required.
URL:https://hollabaughbros.com/event/sourdough-starter-class-2/
LOCATION:Hollabaugh Bros.\, Inc.\, 545 Carlisle Road\, Biglerville\, PA\, 17307\, United States
END:VEVENT
BEGIN:VEVENT
DTSTART;TZID=America/New_York:20251101T100000
DTEND;TZID=America/New_York:20251101T110000
DTSTAMP:20260424T020801
CREATED:20250911T162214Z
LAST-MODIFIED:20251022T210504Z
UID:10000025-1761991200-1761994800@hollabaughbros.com
SUMMARY:SOLD OUT: Sourdough Starter Class
DESCRIPTION:THIS CLASS IS CURRENTLY SOLD OUT\, BUT WE’VE ADDED ANOTHER CLASS AT 11:30!\n\n\nOur popular Sourdough Starter Class with Sweet Thyme Breads & Treats\, LLC returns for the fall season! Learn the ins and outs of how to make a sourdough starter while creating your own\, and hear about the process that goes into making the perfect loaf! Each participant will leave with their own jar of starter to begin their Sourdough journey.\n\n\nCost is $20 per person and pre-registration is required.  This class is sold out\, but we’ve added a second class at 11:30am. Register today
URL:https://hollabaughbros.com/event/sourdough-starter-class/
LOCATION:Hollabaugh Bros.\, Inc.\, 545 Carlisle Road\, Biglerville\, PA\, 17307\, United States
CATEGORIES:DIY Classes
END:VEVENT
BEGIN:VEVENT
DTSTART;TZID=America/New_York:20251030T150000
DTEND;TZID=America/New_York:20251030T160000
DTSTAMP:20260424T020801
CREATED:20250903T210742Z
LAST-MODIFIED:20250903T213930Z
UID:10000008-1761836400-1761840000@hollabaughbros.com
SUMMARY:Li'l Dumplings: Fall Series
DESCRIPTION:Thursdays\, October 2nd –November 13th\, 3-4pm\n  \nOur Li’l Dumplings programing is recommended for children ages 2-5\, with a caregiver. Cost is $10/child per session. Sign up for one or multiple sessions today. Sign up for all 7 sessions and get 1 session free. Pre-registration is required. \nTentative Weekly Topics*: \n\nOct. 2 – Apples\nOct. 9 – Wagon Ride\nOct. 16 – Pumpkins\nOct. 21 – Baking\nOct. 30 – Leaves\nNov. 6 – Animals\nNov. 13 – Thanksgiving\n\n*PLEASE NOTE: These session topics are tentative and subject to change based on weather and crop season. \n 
URL:https://hollabaughbros.com/event/lil-dumplings-fall-series-5/
LOCATION:Hollabaugh Bros.\, Inc.\, 545 Carlisle Road\, Biglerville\, PA\, 17307\, United States
CATEGORIES:Li'l Dumplings
END:VEVENT
BEGIN:VEVENT
DTSTART;TZID=America/New_York:20251025T100000
DTEND;TZID=America/New_York:20251025T130000
DTSTAMP:20260424T020801
CREATED:20250903T211232Z
LAST-MODIFIED:20250903T214031Z
UID:10000011-1761386400-1761397200@hollabaughbros.com
SUMMARY:Halloween Family Fun
DESCRIPTION:We will be bringing back our Halloween Family Fun event in October! A registration for this fun-filled event includes one trick-or-treat wagon ride (one parent rides free per child)\, picking out and painting a pumpkin\, and a delicious apple to enjoy! In addition to these traditional favorites\, we will be incorporating NEW activities to celebrate with no registration required! Be on the lookout for more details coming soon! \nCome in costume or as you are – either way\, it is sure to be a ghostly good time. This event is recommended for children ages 10 and under\, but open for everyone. Wagon rides are at 10:30 and 11:30\, weather permitting. Please arrive in time for the ride you select\, and remember to check-in at the information tent! \nCost is $12 per child and registration required. *Registration for this event includes ONE child and ONE adult trick-or-treat wagon ticket\, a pumpkin to paint\, and an apple. Any children wanting to participate in the wagon ride must register.
URL:https://hollabaughbros.com/event/halloween-family-fun/
LOCATION:Hollabaugh Bros.\, Inc.\, 545 Carlisle Road\, Biglerville\, PA\, 17307\, United States
CATEGORIES:Family Event
END:VEVENT
BEGIN:VEVENT
DTSTART;TZID=America/New_York:20251023T150000
DTEND;TZID=America/New_York:20251023T160000
DTSTAMP:20260424T020801
CREATED:20250903T210643Z
LAST-MODIFIED:20250903T214046Z
UID:10000007-1761231600-1761235200@hollabaughbros.com
SUMMARY:Li'l Dumplings: Fall Series
DESCRIPTION:Thursdays\, October 2nd –November 13th\, 3-4pm\n  \nOur Li’l Dumplings programing is recommended for children ages 2-5\, with a caregiver. Cost is $10/child per session. Sign up for one or multiple sessions today. Sign up for all 7 sessions and get 1 session free. Pre-registration is required. \nTentative Weekly Topics*: \n\nOct. 2 – Apples\nOct. 9 – Wagon Ride\nOct. 16 – Pumpkins\nOct. 21 – Baking\nOct. 30 – Leaves\nNov. 6 – Animals\nNov. 13 – Thanksgiving\n\n*PLEASE NOTE: These session topics are tentative and subject to change based on weather and crop season. \n 
URL:https://hollabaughbros.com/event/lil-dumplings-fall-series-4/
LOCATION:Hollabaugh Bros.\, Inc.\, 545 Carlisle Road\, Biglerville\, PA\, 17307\, United States
CATEGORIES:Li'l Dumplings
END:VEVENT
BEGIN:VEVENT
DTSTART;TZID=America/New_York:20251018T100000
DTEND;TZID=America/New_York:20251018T120000
DTSTAMP:20260424T020801
CREATED:20250903T214920Z
LAST-MODIFIED:20250903T215345Z
UID:10000017-1760781600-1760788800@hollabaughbros.com
SUMMARY:Cookie Decorating Class with Beehive Cookie Co.
DESCRIPTION:Always wanted to decorate sugar cookies? In this fun 2 hour long class\, we will cover the basic tools used to decorate sugar cookies. We will talk about tips for cookie making + icing consistency. Then\, we will be doing 5 large themed cookies that will taste amazing and will look even better once you’ve completed your decorating! Everything you need will be provided: cookies\, icing and a box to take your cookies home! \nCost is $47/person and pre-registration is required. All ages welcome!
URL:https://hollabaughbros.com/event/9187/
LOCATION:Hollabaugh Bros.\, Inc.\, 545 Carlisle Road\, Biglerville\, PA\, 17307\, United States
CATEGORIES:DIY Classes
END:VEVENT
BEGIN:VEVENT
DTSTART;TZID=America/New_York:20251016T150000
DTEND;TZID=America/New_York:20251016T160000
DTSTAMP:20260424T020801
CREATED:20250903T210541Z
LAST-MODIFIED:20250903T213947Z
UID:10000006-1760626800-1760630400@hollabaughbros.com
SUMMARY:Li'l Dumplings: Fall Series
DESCRIPTION:Thursdays\, October 2nd –November 13th\, 3-4pm\n  \nOur Li’l Dumplings programing is recommended for children ages 2-5\, with a caregiver. Cost is $10/child per session. Sign up for one or multiple sessions today. Sign up for all 7 sessions and get 1 session free. Pre-registration is required. \nTentative Weekly Topics*: \n\nOct. 2 – Apples\nOct. 9 – Wagon Ride\nOct. 16 – Pumpkins\nOct. 21 – Baking\nOct. 30 – Leaves\nNov. 6 – Animals\nNov. 13 – Thanksgiving\n\n*PLEASE NOTE: These session topics are tentative and subject to change based on weather and crop season. \n 
URL:https://hollabaughbros.com/event/lil-dumplings-fall-series-3/
LOCATION:Hollabaugh Bros.\, Inc.\, 545 Carlisle Road\, Biglerville\, PA\, 17307\, United States
CATEGORIES:Li'l Dumplings
END:VEVENT
BEGIN:VEVENT
DTSTART;TZID=America/New_York:20251012T120000
DTEND;TZID=America/New_York:20251012T160000
DTSTAMP:20260424T020801
CREATED:20250903T212829Z
LAST-MODIFIED:20250924T212555Z
UID:10000015-1760270400-1760284800@hollabaughbros.com
SUMMARY:Apple Harvest Weekend
DESCRIPTION:Nothing screams fall more than the annual National Apple Harvest Festival. Although not the location of the National Apple Harvest Festival\, stop by the market for in-market sampling\, warm apple crisp\, apple backed goods\, local artisan craft vendors and bins of fresh-picked apples. Enjoy one of our signature Apple Cider Donut Milkshakes or an apple cider slushie on the drive home. If you have a favorite bakery item\, be sure to call and order ahead of time. It will be a fun\, food-filled weekend for all! \n 
URL:https://hollabaughbros.com/event/9165/
LOCATION:Hollabaugh Bros.\, Inc.\, 545 Carlisle Road\, Biglerville\, PA\, 17307\, United States
CATEGORIES:Festival
END:VEVENT
BEGIN:VEVENT
DTSTART;TZID=America/New_York:20251011T120000
DTEND;TZID=America/New_York:20251011T160000
DTSTAMP:20260424T020801
CREATED:20250903T212803Z
LAST-MODIFIED:20250924T212521Z
UID:10000014-1760184000-1760198400@hollabaughbros.com
SUMMARY:Apple Harvest Weekend
DESCRIPTION:Nothing screams fall more than the annual National Apple Harvest Festival. Although not the location of the National Apple Harvest Festival\, stop by the market for in-market sampling\, warm apple crisp\, apple backed goods\, local artisan craft vendors and bins of fresh-picked apples. Enjoy one of our signature Apple Cider Donut Milkshakes or an apple cider slushie on the drive home. If you have a favorite bakery item\, be sure to call and order ahead of time. It will be a fun\, food-filled weekend for all! \n 
URL:https://hollabaughbros.com/event/apple-harvest-weekends-3/
LOCATION:Hollabaugh Bros.\, Inc.\, 545 Carlisle Road\, Biglerville\, PA\, 17307\, United States
CATEGORIES:Festival
END:VEVENT
BEGIN:VEVENT
DTSTART;TZID=America/New_York:20251009T150000
DTEND;TZID=America/New_York:20251009T160000
DTSTAMP:20260424T020801
CREATED:20250903T210253Z
LAST-MODIFIED:20250903T214137Z
UID:10000005-1760022000-1760025600@hollabaughbros.com
SUMMARY:Li'l Dumplings: Fall Series
DESCRIPTION:Thursdays\, October 2nd –November 13th\, 3-4pm\n  \nOur Li’l Dumplings programing is recommended for children ages 2-5\, with a caregiver. Cost is $10/child per session. Sign up for one or multiple sessions today. Sign up for all 7 sessions and get 1 session free. Pre-registration is required. \nTentative Weekly Topics*: \n\nOct. 2 – Apples\nOct. 9 – Wagon Ride\nOct. 16 – Pumpkins\nOct. 21 – Baking\nOct. 30 – Leaves\nNov. 6 – Animals\nNov. 13 – Thanksgiving\n\n*PLEASE NOTE: These session topics are tentative and subject to change based on weather and crop season. \n 
URL:https://hollabaughbros.com/event/lil-dumplings-fall-series-2/
LOCATION:Hollabaugh Bros.\, Inc.\, 545 Carlisle Road\, Biglerville\, PA\, 17307\, United States
CATEGORIES:Li'l Dumplings
END:VEVENT
BEGIN:VEVENT
DTSTART;TZID=America/New_York:20251005T120000
DTEND;TZID=America/New_York:20251005T160000
DTSTAMP:20260424T020801
CREATED:20250903T212728Z
LAST-MODIFIED:20251002T153837Z
UID:10000013-1759665600-1759680000@hollabaughbros.com
SUMMARY:Apple Harvest Weekend
DESCRIPTION:Nothing screams fall more than the annual National Apple Harvest Festival. Although not the location of the National Apple Harvest Festival\, stop by the market for in-market sampling\, warm apple crisp\, apple backed goods\, local artisan craft vendors and bins of fresh-picked apples. Enjoy one of our signature Apple Cider Donut Milkshakes or an apple cider slushie on the drive home. If you have a favorite bakery item\, be sure to call and order ahead of time. It will be a fun\, food-filled weekend for all! \n 
URL:https://hollabaughbros.com/event/apple-harvest-weekends-2/
LOCATION:Hollabaugh Bros.\, Inc.\, 545 Carlisle Road\, Biglerville\, PA\, 17307\, United States
CATEGORIES:Festival
END:VEVENT
BEGIN:VEVENT
DTSTART;TZID=America/New_York:20251004T120000
DTEND;TZID=America/New_York:20251004T160000
DTSTAMP:20260424T020801
CREATED:20250903T212651Z
LAST-MODIFIED:20251002T153743Z
UID:10000012-1759579200-1759593600@hollabaughbros.com
SUMMARY:Apple Harvest Weekend
DESCRIPTION:Nothing screams fall more than the annual National Apple Harvest Festival. Although not the location of the National Apple Harvest Festival\, stop by the market for in-market sampling\, warm apple crisp\, apple backed goods\, local artisan craft vendors and bins of fresh-picked apples. Enjoy one of our signature Apple Cider Donut Milkshakes or an apple cider slushie on the drive home. If you have a favorite bakery item\, be sure to call and order ahead of time. It will be a fun\, food-filled weekend for all! \n 
URL:https://hollabaughbros.com/event/apple-harvest-weekends/
LOCATION:Hollabaugh Bros.\, Inc.\, 545 Carlisle Road\, Biglerville\, PA\, 17307\, United States
CATEGORIES:Festival
END:VEVENT
BEGIN:VEVENT
DTSTART;TZID=America/New_York:20251002T150000
DTEND;TZID=America/New_York:20251002T160000
DTSTAMP:20260424T020801
CREATED:20250903T205602Z
LAST-MODIFIED:20250903T214220Z
UID:10000004-1759417200-1759420800@hollabaughbros.com
SUMMARY:Li'l Dumplings: Fall Series
DESCRIPTION:Thursdays\, October 2nd –November 13th\, 3-4pm\n  \nOur Li’l Dumplings programing is recommended for children ages 2-5\, with a caregiver. Cost is $10/child per session. Sign up for one or multiple sessions today. Sign up for all 7 sessions and get 1 session free. Pre-registration is required. \nTentative Weekly Topics*: \n\nOct. 2 – Apples\nOct. 9 – Wagon Ride\nOct. 16 – Pumpkins\nOct. 21 – Baking\nOct. 30 – Leaves\nNov. 6 – Animals\nNov. 13 – Thanksgiving\n\n*PLEASE NOTE: These session topics are tentative and subject to change based on weather and crop season.
URL:https://hollabaughbros.com/event/lil-dumplings-fall-series/
LOCATION:Hollabaugh Bros.\, Inc.\, 545 Carlisle Road\, Biglerville\, PA\, 17307\, United States
CATEGORIES:Li'l Dumplings
END:VEVENT
BEGIN:VEVENT
DTSTART;TZID=America/New_York:20250913T100000
DTEND;TZID=America/New_York:20250913T120000
DTSTAMP:20260424T020801
CREATED:20250903T213710Z
LAST-MODIFIED:20250903T213850Z
UID:10000016-1757757600-1757764800@hollabaughbros.com
SUMMARY:Canning: Jams and Jellies Class
DESCRIPTION:Learn the science behind today’s recommended methods for making and processing jam and jelly in this “Home Food Preservation: Jams and Jellies” workshop for new and experienced food preservers. Also find out about food preservation myths and unsafe practices of the past. Penn State Extension’s Home Food Preservation series explains the science\, preparation tips\, and safe processing methods you need to know to preserve delicious food at home. \nTOPICS: \n\nBasics of water bath and atmospheric steam canning for jam and jelly\nTechniques for making cooked and freezer jam and jelly.\nTypes of pectin products and use for a proper set.\nNature of various ingredients for a quality product.\nRecipes for reduced sugar and no sugar added.\nHow to troubleshoot problems.\n\nCost is $15/person and pre-registration is required. Register through Penn State Extension online or by calling 877-345-0691 today!
URL:https://hollabaughbros.com/event/9174/
LOCATION:Hollabaugh Bros.\, Inc.\, 545 Carlisle Road\, Biglerville\, PA\, 17307\, United States
CATEGORIES:DIY Classes
END:VEVENT
BEGIN:VEVENT
DTSTART;TZID=America/New_York:20250906T100000
DTEND;TZID=America/New_York:20250906T140000
DTSTAMP:20260424T020801
CREATED:20250902T173502Z
LAST-MODIFIED:20250902T200004Z
UID:10000001-1757152800-1757167200@hollabaughbros.com
SUMMARY:Community Day
DESCRIPTION:In honor of our 70th anniversary\, we are hosting a Community Day here at the Hollabaugh farm and market on Saturday\, September 6 from 10am-2pm! It’s a day to honor and celebrate the community that has helped us reach this momentous milestone! \nThe day will feature FREE wagon rides from 10:30am-1:30pm\, a dunk tank with local celebrities\, a pie eating contest\, games\, balloon artist\, Butterfly Release\, Ag Olympic events\, and more! Froggy 107.7 will be broadcasting live from 10am-12pm. \nWe have many free activities and events planned for the day\, and all children will receive 10 free tickets to be able to participate in the activities and have a chance to win prizes. Additional tickets will also be available for sale\, and the proceeds from those sales will be donated to the Bruce A. Hollabaugh Memorial Endowment Fund*\, which was designed to give back to our local community in all the ways that Bruce would have been active and involved in if he were still here with us today. \nCome hungry\, and purchase a delicious lunch or sweet treat from Bricker’s Famous French Fries\, Tacos Monarca\, Dougie’s BBQ Smokehouse\, or Kona Ice. We hope to see you here for an exciting day of celebration! \n 
URL:https://hollabaughbros.com/event/community-day/
LOCATION:Hollabaugh Bros.\, Inc.\, 545 Carlisle Road\, Biglerville\, PA\, 17307\, United States
CATEGORIES:Family Event
END:VEVENT
END:VCALENDAR