BEGIN:VCALENDAR
VERSION:2.0
PRODID:-//Welcome to Hollabaugh Bros, Inc. - ECPv6.15.20//NONSGML v1.0//EN
CALSCALE:GREGORIAN
METHOD:PUBLISH
X-ORIGINAL-URL:https://hollabaughbros.com
X-WR-CALDESC:Events for Welcome to Hollabaugh Bros, Inc.
REFRESH-INTERVAL;VALUE=DURATION:PT1H
X-Robots-Tag:noindex
X-PUBLISHED-TTL:PT1H
BEGIN:VTIMEZONE
TZID:America/New_York
BEGIN:DAYLIGHT
TZOFFSETFROM:-0500
TZOFFSETTO:-0400
TZNAME:EDT
DTSTART:20250309T070000
END:DAYLIGHT
BEGIN:STANDARD
TZOFFSETFROM:-0400
TZOFFSETTO:-0500
TZNAME:EST
DTSTART:20251102T060000
END:STANDARD
BEGIN:DAYLIGHT
TZOFFSETFROM:-0500
TZOFFSETTO:-0400
TZNAME:EDT
DTSTART:20260308T070000
END:DAYLIGHT
BEGIN:STANDARD
TZOFFSETFROM:-0400
TZOFFSETTO:-0500
TZNAME:EST
DTSTART:20261101T060000
END:STANDARD
BEGIN:DAYLIGHT
TZOFFSETFROM:-0500
TZOFFSETTO:-0400
TZNAME:EDT
DTSTART:20270314T070000
END:DAYLIGHT
BEGIN:STANDARD
TZOFFSETFROM:-0400
TZOFFSETTO:-0500
TZNAME:EST
DTSTART:20271107T060000
END:STANDARD
END:VTIMEZONE
BEGIN:VEVENT
DTSTART;TZID=America/New_York:20261010T120000
DTEND;TZID=America/New_York:20261010T160000
DTSTAMP:20260423T160835
CREATED:20260112T185603Z
LAST-MODIFIED:20260203T194407Z
UID:10002056-1791633600-1791648000@hollabaughbros.com
SUMMARY:Apple Harvest Weekends
DESCRIPTION:Nothing says fall in Adams County quite like the National Apple Harvest Festival weekend! 🍎🍂 \nWhile we’re not the festival location\, we invite you to stop by the market and make us part of your apple-filled plans. Enjoy in-market sampling\, warm apple crisp\, fresh apple baked goods\, local artisan craft vendors\, and bins overflowing with fresh-picked apples. \nBefore you head home\, treat yourself to one of our signature Apple Cider Donut Milkshakes or a refreshing apple cider slushie—the perfect fall flavor to go. If you have a favorite bakery item\, we recommend calling ahead to place your order\, as these weekends are always busy. \nIt’s shaping up to be a fun\, food-filled fall weekend\, and we can’t wait to welcome you to the market! 🍎🚜😊
URL:https://hollabaughbros.com/event/apple-harvest-weekends-4/2026-10-10/
LOCATION:Hollabaugh Bros.\, Inc.\, 545 Carlisle Road\, Biglerville\, PA\, 17307\, United States
CATEGORIES:Festival
ATTACH;FMTTYPE=image/png:https://hollabaughbros.com/wp-content/uploads/2026/01/event-images-11.png
END:VEVENT
BEGIN:VEVENT
DTSTART;TZID=America/New_York:20261011T120000
DTEND;TZID=America/New_York:20261011T160000
DTSTAMP:20260423T160835
CREATED:20260112T185603Z
LAST-MODIFIED:20260203T194407Z
UID:10002057-1791720000-1791734400@hollabaughbros.com
SUMMARY:Apple Harvest Weekends
DESCRIPTION:Nothing says fall in Adams County quite like the National Apple Harvest Festival weekend! 🍎🍂 \nWhile we’re not the festival location\, we invite you to stop by the market and make us part of your apple-filled plans. Enjoy in-market sampling\, warm apple crisp\, fresh apple baked goods\, local artisan craft vendors\, and bins overflowing with fresh-picked apples. \nBefore you head home\, treat yourself to one of our signature Apple Cider Donut Milkshakes or a refreshing apple cider slushie—the perfect fall flavor to go. If you have a favorite bakery item\, we recommend calling ahead to place your order\, as these weekends are always busy. \nIt’s shaping up to be a fun\, food-filled fall weekend\, and we can’t wait to welcome you to the market! 🍎🚜😊
URL:https://hollabaughbros.com/event/apple-harvest-weekends-4/2026-10-11/
LOCATION:Hollabaugh Bros.\, Inc.\, 545 Carlisle Road\, Biglerville\, PA\, 17307\, United States
CATEGORIES:Festival
ATTACH;FMTTYPE=image/png:https://hollabaughbros.com/wp-content/uploads/2026/01/event-images-11.png
END:VEVENT
END:VCALENDAR