BEGIN:VCALENDAR
VERSION:2.0
PRODID:-//Welcome to Hollabaugh Bros, Inc. - ECPv6.15.20//NONSGML v1.0//EN
CALSCALE:GREGORIAN
METHOD:PUBLISH
X-ORIGINAL-URL:https://hollabaughbros.com
X-WR-CALDESC:Events for Welcome to Hollabaugh Bros, Inc.
REFRESH-INTERVAL;VALUE=DURATION:PT1H
X-Robots-Tag:noindex
X-PUBLISHED-TTL:PT1H
BEGIN:VTIMEZONE
TZID:America/New_York
BEGIN:DAYLIGHT
TZOFFSETFROM:-0500
TZOFFSETTO:-0400
TZNAME:EDT
DTSTART:20250309T070000
END:DAYLIGHT
BEGIN:STANDARD
TZOFFSETFROM:-0400
TZOFFSETTO:-0500
TZNAME:EST
DTSTART:20251102T060000
END:STANDARD
BEGIN:DAYLIGHT
TZOFFSETFROM:-0500
TZOFFSETTO:-0400
TZNAME:EDT
DTSTART:20260308T070000
END:DAYLIGHT
BEGIN:STANDARD
TZOFFSETFROM:-0400
TZOFFSETTO:-0500
TZNAME:EST
DTSTART:20261101T060000
END:STANDARD
BEGIN:DAYLIGHT
TZOFFSETFROM:-0500
TZOFFSETTO:-0400
TZNAME:EDT
DTSTART:20270314T070000
END:DAYLIGHT
BEGIN:STANDARD
TZOFFSETFROM:-0400
TZOFFSETTO:-0500
TZNAME:EST
DTSTART:20271107T060000
END:STANDARD
END:VTIMEZONE
BEGIN:VEVENT
DTSTART;TZID=America/New_York:20260205T100000
DTEND;TZID=America/New_York:20260205T230000
DTSTAMP:20260423T160859
CREATED:20251117T180739Z
LAST-MODIFIED:20260112T170456Z
UID:10000031-1770285600-1770332400@hollabaughbros.com
SUMMARY:Li'l Dumplings: Winter Series (AM)
DESCRIPTION:Our Li’l Dumplings programing is recommended for children ages 2-5\, with a caregiver. Cost is $10/child per session. Sign up for one or multiple sessions today. Sign up for all 6 sessions and get 1 session free. Pre-registration is required. \n\n\n\nTentative Weekly Topics*: \n\nJan. 15 – Hibernation\nJan. 22 – Snow/Winter on the Farm\nJan. 29 – Groundhog Day\nFeb. 5 – Apples\nFeb. 12 – Valentine’s Day\nFeb. 19 – Baking\n\n*PLEASE NOTE: These session topics are tentative and subject to change based on weather and crop season. If a session is cancelled by Hollabaugh Bros. due to weather\, the make-up class(es) will be held the day after (Friday) at 10AM and 3PM
URL:https://hollabaughbros.com/event/lil-dumplings-winter-series/2026-02-05/
LOCATION:Hollabaugh Bros.\, Inc.\, 545 Carlisle Road\, Biglerville\, PA\, 17307\, United States
CATEGORIES:Li'l Dumplings
END:VEVENT
BEGIN:VEVENT
DTSTART;TZID=America/New_York:20260205T150000
DTEND;TZID=America/New_York:20260205T160000
DTSTAMP:20260423T160859
CREATED:20251117T182746Z
LAST-MODIFIED:20260112T170404Z
UID:10000147-1770303600-1770307200@hollabaughbros.com
SUMMARY:Li'l Dumplings: Winter Series (PM)
DESCRIPTION:Our Li’l Dumplings programing is recommended for children ages 2-5\, with a caregiver. Cost is $10/child per session. Sign up for one or multiple sessions today. Sign up for all 6 sessions and get 1 session free. Pre-registration is required. \n\n\n\nTentative Weekly Topics*: \n\nJan. 15 – Hibernation\nJan. 22 – Snow/Winter on the Farm\nJan. 29 – Groundhog Day\nFeb. 5 – Apples\nFeb. 12 – Valentine’s Day\nFeb. 19 – Baking\n\n*PLEASE NOTE: These session topics are tentative and subject to change based on weather and crop season. If a session is cancelled by Hollabaugh Bros. due to weather\, the make-up class(es) will be held the day after (Friday) at 10AM and 3PM \n\n\n \n 
URL:https://hollabaughbros.com/event/lil-dumplings-winter-series-2/2026-02-05/
LOCATION:Hollabaugh Bros.\, Inc.\, 545 Carlisle Road\, Biglerville\, PA\, 17307\, United States
CATEGORIES:Li'l Dumplings
END:VEVENT
BEGIN:VEVENT
DTSTART;TZID=America/New_York:20260207T100000
DTEND;TZID=America/New_York:20260207T120000
DTSTAMP:20260423T160859
CREATED:20251212T210813Z
LAST-MODIFIED:20260112T170035Z
UID:10001304-1770458400-1770465600@hollabaughbros.com
SUMMARY:Cookie Decorating Class
DESCRIPTION:Join us for our first class with Eve from Beehive Cookie Co. in 2026! \nAlways wanted to decorate sugar cookies? In this fun 2 hour long class\, we will cover the basic tools used to decorate sugar cookies. We will talk about tips for cookie making + icing consistency. Then\, we will be doing large themed cookies that will taste amazing and will look even better once you’ve completed your decorating! Everything you need will be provided: cookies\, icing and a box to take your cookies home! \nCost is $47/person and pre-registration is required. \n 
URL:https://hollabaughbros.com/event/cookie-decorating-class/
LOCATION:Hollabaugh Bros.\, Inc.\, 545 Carlisle Road\, Biglerville\, PA\, 17307\, United States
CATEGORIES:DIY Classes
ATTACH;FMTTYPE=image/png:https://hollabaughbros.com/wp-content/uploads/2026/01/event-images-1.png
END:VEVENT
BEGIN:VEVENT
DTSTART;TZID=America/New_York:20260207T140000
DTEND;TZID=America/New_York:20260207T150000
DTSTAMP:20260423T160859
CREATED:20260112T173323Z
LAST-MODIFIED:20260112T173323Z
UID:10001313-1770472800-1770476400@hollabaughbros.com
SUMMARY:Sourdough Starter Class
DESCRIPTION:Learn all about sourdough starters with us. Becky McCulloch will provide a demonstration on how to feed and take care of starters. You will also sample different sourdough breads and learn about the process that goes into making the perfect loaf! Each participant will leave with their own jar of starter to begin their Sourdough journey. Don’t delay\, register today\, as this class will sell out. Registration includes: \n\n\n\n\nStarter samples in a jar\n\n\n\nPackets of instructions\n\n\n\nA general recipe of how to use the starters in a recipe\n\n\n\n\nCost is $25 and pre-registration is required. Participants must be 12 years of age or older. \n 
URL:https://hollabaughbros.com/event/sourdough-starter-class-4/
LOCATION:Hollabaugh Bros.\, Inc.\, 545 Carlisle Road\, Biglerville\, PA\, 17307\, United States
CATEGORIES:DIY Classes
END:VEVENT
BEGIN:VEVENT
DTSTART;TZID=America/New_York:20260212T100000
DTEND;TZID=America/New_York:20260212T230000
DTSTAMP:20260423T160859
CREATED:20251117T180739Z
LAST-MODIFIED:20260112T170456Z
UID:10000032-1770890400-1770937200@hollabaughbros.com
SUMMARY:Li'l Dumplings: Winter Series (AM)
DESCRIPTION:Our Li’l Dumplings programing is recommended for children ages 2-5\, with a caregiver. Cost is $10/child per session. Sign up for one or multiple sessions today. Sign up for all 6 sessions and get 1 session free. Pre-registration is required. \n\n\n\nTentative Weekly Topics*: \n\nJan. 15 – Hibernation\nJan. 22 – Snow/Winter on the Farm\nJan. 29 – Groundhog Day\nFeb. 5 – Apples\nFeb. 12 – Valentine’s Day\nFeb. 19 – Baking\n\n*PLEASE NOTE: These session topics are tentative and subject to change based on weather and crop season. If a session is cancelled by Hollabaugh Bros. due to weather\, the make-up class(es) will be held the day after (Friday) at 10AM and 3PM
URL:https://hollabaughbros.com/event/lil-dumplings-winter-series/2026-02-12/
LOCATION:Hollabaugh Bros.\, Inc.\, 545 Carlisle Road\, Biglerville\, PA\, 17307\, United States
CATEGORIES:Li'l Dumplings
END:VEVENT
BEGIN:VEVENT
DTSTART;TZID=America/New_York:20260212T150000
DTEND;TZID=America/New_York:20260212T160000
DTSTAMP:20260423T160859
CREATED:20251117T182746Z
LAST-MODIFIED:20260112T170404Z
UID:10000148-1770908400-1770912000@hollabaughbros.com
SUMMARY:Li'l Dumplings: Winter Series (PM)
DESCRIPTION:Our Li’l Dumplings programing is recommended for children ages 2-5\, with a caregiver. Cost is $10/child per session. Sign up for one or multiple sessions today. Sign up for all 6 sessions and get 1 session free. Pre-registration is required. \n\n\n\nTentative Weekly Topics*: \n\nJan. 15 – Hibernation\nJan. 22 – Snow/Winter on the Farm\nJan. 29 – Groundhog Day\nFeb. 5 – Apples\nFeb. 12 – Valentine’s Day\nFeb. 19 – Baking\n\n*PLEASE NOTE: These session topics are tentative and subject to change based on weather and crop season. If a session is cancelled by Hollabaugh Bros. due to weather\, the make-up class(es) will be held the day after (Friday) at 10AM and 3PM \n\n\n \n 
URL:https://hollabaughbros.com/event/lil-dumplings-winter-series-2/2026-02-12/
LOCATION:Hollabaugh Bros.\, Inc.\, 545 Carlisle Road\, Biglerville\, PA\, 17307\, United States
CATEGORIES:Li'l Dumplings
END:VEVENT
BEGIN:VEVENT
DTSTART;TZID=America/New_York:20260219T100000
DTEND;TZID=America/New_York:20260219T230000
DTSTAMP:20260423T160859
CREATED:20251117T180739Z
LAST-MODIFIED:20260112T170456Z
UID:10000033-1771495200-1771542000@hollabaughbros.com
SUMMARY:Li'l Dumplings: Winter Series (AM)
DESCRIPTION:Our Li’l Dumplings programing is recommended for children ages 2-5\, with a caregiver. Cost is $10/child per session. Sign up for one or multiple sessions today. Sign up for all 6 sessions and get 1 session free. Pre-registration is required. \n\n\n\nTentative Weekly Topics*: \n\nJan. 15 – Hibernation\nJan. 22 – Snow/Winter on the Farm\nJan. 29 – Groundhog Day\nFeb. 5 – Apples\nFeb. 12 – Valentine’s Day\nFeb. 19 – Baking\n\n*PLEASE NOTE: These session topics are tentative and subject to change based on weather and crop season. If a session is cancelled by Hollabaugh Bros. due to weather\, the make-up class(es) will be held the day after (Friday) at 10AM and 3PM
URL:https://hollabaughbros.com/event/lil-dumplings-winter-series/2026-02-19/
LOCATION:Hollabaugh Bros.\, Inc.\, 545 Carlisle Road\, Biglerville\, PA\, 17307\, United States
CATEGORIES:Li'l Dumplings
END:VEVENT
BEGIN:VEVENT
DTSTART;TZID=America/New_York:20260219T150000
DTEND;TZID=America/New_York:20260219T160000
DTSTAMP:20260423T160859
CREATED:20251117T182746Z
LAST-MODIFIED:20260112T170404Z
UID:10000149-1771513200-1771516800@hollabaughbros.com
SUMMARY:Li'l Dumplings: Winter Series (PM)
DESCRIPTION:Our Li’l Dumplings programing is recommended for children ages 2-5\, with a caregiver. Cost is $10/child per session. Sign up for one or multiple sessions today. Sign up for all 6 sessions and get 1 session free. Pre-registration is required. \n\n\n\nTentative Weekly Topics*: \n\nJan. 15 – Hibernation\nJan. 22 – Snow/Winter on the Farm\nJan. 29 – Groundhog Day\nFeb. 5 – Apples\nFeb. 12 – Valentine’s Day\nFeb. 19 – Baking\n\n*PLEASE NOTE: These session topics are tentative and subject to change based on weather and crop season. If a session is cancelled by Hollabaugh Bros. due to weather\, the make-up class(es) will be held the day after (Friday) at 10AM and 3PM \n\n\n \n 
URL:https://hollabaughbros.com/event/lil-dumplings-winter-series-2/2026-02-19/
LOCATION:Hollabaugh Bros.\, Inc.\, 545 Carlisle Road\, Biglerville\, PA\, 17307\, United States
CATEGORIES:Li'l Dumplings
END:VEVENT
BEGIN:VEVENT
DTSTART;TZID=America/New_York:20260221T100000
DTEND;TZID=America/New_York:20260221T120000
DTSTAMP:20260423T160859
CREATED:20251212T211800Z
LAST-MODIFIED:20260112T165944Z
UID:10001306-1771668000-1771675200@hollabaughbros.com
SUMMARY:Wooden Flower Workshop
DESCRIPTION:Join Brandy with Forever Flowers and Gifts in making a unique wooden flower arrangement\, using a book as the “vase”. She will walk you step by step through the process! There will be a variety of flowers for you to choose from\, so you can customize it to fit your decor! And\, since they are wooden flowers\, there is no maintenance and it will last forever! \nCost is $55/person and pre-registration is required. Plan to stay after the class for our first ever Book Swap event from 12-5pm! Bring books to trade if you would like to participate! \n 
URL:https://hollabaughbros.com/event/wooden-flower-workshop/
LOCATION:Hollabaugh Bros.\, Inc.\, 545 Carlisle Road\, Biglerville\, PA\, 17307\, United States
CATEGORIES:DIY Classes
ATTACH;FMTTYPE=image/png:https://hollabaughbros.com/wp-content/uploads/2025/12/event-images-1.png
END:VEVENT
BEGIN:VEVENT
DTSTART;TZID=America/New_York:20260221T120000
DTEND;TZID=America/New_York:20260221T170000
DTSTAMP:20260423T160859
CREATED:20251212T211020Z
LAST-MODIFIED:20251217T220405Z
UID:10001305-1771675200-1771693200@hollabaughbros.com
SUMMARY:Book Swap
DESCRIPTION:📚✨ Book lovers\, this one’s for YOU! ✨📚 \nWe’re hosting our first-ever Book Swap here at Hollabaugh’s on February 21\, and you’re invited! Swing by 12–5pm and trade your gently-loved books for something “new to you” from our Little Lending Library! We’ll have loads of great reads displayed in the Bee Room — perfect for all ages. ❤️ \nAnd here’s a sweet bonus: Bring a book during the event and snag a coupon for the market! (One per person\, but plenty of fun to go around!) Cleaning off your shelves early? You’re welcome to drop book donations at the registers anytime before the event. \nCome share the love of reading with us — we can’t wait to see what stories you’ll discover! There is no cost or registration required for this event. 📖🍎✨
URL:https://hollabaughbros.com/event/book-swap/
LOCATION:Hollabaugh Bros.\, Inc.\, 545 Carlisle Road\, Biglerville\, PA\, 17307\, United States
CATEGORIES:Family Event
ATTACH;FMTTYPE=image/png:https://hollabaughbros.com/wp-content/uploads/2025/12/event-images-2.png
END:VEVENT
BEGIN:VEVENT
DTSTART;TZID=America/New_York:20260228T100000
DTEND;TZID=America/New_York:20260228T120000
DTSTAMP:20260423T160859
CREATED:20251215T175406Z
LAST-MODIFIED:20260114T174259Z
UID:10001309-1772272800-1772280000@hollabaughbros.com
SUMMARY:SOLD OUT: Charcuterie Class with Penn State Extension
DESCRIPTION:Learn how to put a healthy twist on a popular trend in this “Let’s Cook Charcuterie Boards” workshop. This in-person class\, presented by Penn State Extension\, teaches you how to assemble delightful displays. Charcuterie board and all supplies are included in registration. \nTOPICS: \n\nThemed board components\nDelicious dip recipes\nNutritionally balanced options\n\nCost is $30/person and pre-registration is required. Register through Penn State Extension online or by calling 877-345-0691 today! Registration closes January 24th. \n 
URL:https://hollabaughbros.com/event/charcuterie-class-with-penn-state-extension-2/
LOCATION:Hollabaugh Bros.\, Inc.\, 545 Carlisle Road\, Biglerville\, PA\, 17307\, United States
CATEGORIES:DIY Classes
ATTACH;FMTTYPE=image/png:https://hollabaughbros.com/wp-content/uploads/2025/09/LETS-COOK-CHARCUTERIE-BOARDS.png
END:VEVENT
END:VCALENDAR