BEGIN:VCALENDAR
VERSION:2.0
PRODID:-//Welcome to Hollabaugh Bros, Inc. - ECPv6.15.20//NONSGML v1.0//EN
CALSCALE:GREGORIAN
METHOD:PUBLISH
X-ORIGINAL-URL:https://hollabaughbros.com
X-WR-CALDESC:Events for Welcome to Hollabaugh Bros, Inc.
REFRESH-INTERVAL;VALUE=DURATION:PT1H
X-Robots-Tag:noindex
X-PUBLISHED-TTL:PT1H
BEGIN:VTIMEZONE
TZID:America/New_York
BEGIN:DAYLIGHT
TZOFFSETFROM:-0500
TZOFFSETTO:-0400
TZNAME:EDT
DTSTART:20250309T070000
END:DAYLIGHT
BEGIN:STANDARD
TZOFFSETFROM:-0400
TZOFFSETTO:-0500
TZNAME:EST
DTSTART:20251102T060000
END:STANDARD
BEGIN:DAYLIGHT
TZOFFSETFROM:-0500
TZOFFSETTO:-0400
TZNAME:EDT
DTSTART:20260308T070000
END:DAYLIGHT
BEGIN:STANDARD
TZOFFSETFROM:-0400
TZOFFSETTO:-0500
TZNAME:EST
DTSTART:20261101T060000
END:STANDARD
BEGIN:DAYLIGHT
TZOFFSETFROM:-0500
TZOFFSETTO:-0400
TZNAME:EDT
DTSTART:20270314T070000
END:DAYLIGHT
BEGIN:STANDARD
TZOFFSETFROM:-0400
TZOFFSETTO:-0500
TZNAME:EST
DTSTART:20271107T060000
END:STANDARD
END:VTIMEZONE
BEGIN:VEVENT
DTSTART;TZID=America/New_York:20260502T100000
DTEND;TZID=America/New_York:20260502T230000
DTSTAMP:20260423T142219
CREATED:20260325T191134Z
LAST-MODIFIED:20260325T191134Z
UID:10002128-1777716000-1777762800@hollabaughbros.com
SUMMARY:Pressed Flower Frame Workshop
DESCRIPTION:Join us on the farm for a relaxing and creative morning on May 2 from 10:00–11:00 AM! \nIn this hands-on class\, you’ll design your own beautiful pressed flower frame—perfect for adding a touch of spring to your home or gifting to someone special. Each participant will receive a 5×7 glass frame with a gold border and choose from a selection of delicate pressed flowers to create a one-of-a-kind piece. \nNo experience needed—just bring your creativity and enjoy a peaceful hour surrounded by the beauty of the season.\n💐 Cost: $20 per person\n🌿 All materials included \nSpaces are limited\, so be sure to reserve your spot! We can’t wait to create with you! \n 
URL:https://hollabaughbros.com/event/pressed-flower-frame-workshop/
LOCATION:Hollabaugh Bros.\, Inc.\, 545 Carlisle Road\, Biglerville\, PA\, 17307\, United States
CATEGORIES:DIY Classes
ATTACH;FMTTYPE=image/png:https://hollabaughbros.com/wp-content/uploads/2026/03/event-images-5.png
END:VEVENT
BEGIN:VEVENT
DTSTART;TZID=America/New_York:20260509T100000
DTEND;TZID=America/New_York:20260509T110000
DTSTAMP:20260423T142219
CREATED:20260319T220721Z
LAST-MODIFIED:20260319T220721Z
UID:10002122-1778320800-1778324400@hollabaughbros.com
SUMMARY:Mother’s Day Flower Arrangement Class: Ages 5-8
DESCRIPTION:Join us at Hollabaugh’s for a special morning of creativity and fun as we celebrate Mom! We’re offering two hands-on flower arranging classes perfect for kids\, teens\, and adults of all ages. Each participant will create a beautiful arrangement using a mix of sola wood flowers and fresh blooms\, plus take home a sweet pre-made card to complete the gift. \nThis class is best suited for younger children (ages 5–8) with an adult. Participants will create a charming arrangement in a small plastic cup—perfect for little hands and big smiles! \nWhether you’re making a gift for Mom\, Grandma\, or someone special—or just enjoying time together—these classes are a wonderful way to celebrate the season.\nSpots are limited\, so be sure to reserve your place soon! \n 
URL:https://hollabaughbros.com/event/mothers-day-flower-arrangement-class-ages-5-8/
LOCATION:Hollabaugh Bros.\, Inc.\, 545 Carlisle Road\, Biglerville\, PA\, 17307\, United States
CATEGORIES:Children's Programming
ATTACH;FMTTYPE=image/png:https://hollabaughbros.com/wp-content/uploads/2026/03/event-images-4.png
END:VEVENT
BEGIN:VEVENT
DTSTART;TZID=America/New_York:20260509T110000
DTEND;TZID=America/New_York:20260509T120000
DTSTAMP:20260423T142219
CREATED:20260319T220912Z
LAST-MODIFIED:20260319T220912Z
UID:10002123-1778324400-1778328000@hollabaughbros.com
SUMMARY:Mother’s Day Flower Arrangement Class: Ages 8+
DESCRIPTION:Join us at Hollabaugh’s for a special morning of creativity and fun as we celebrate Mom! We’re offering two hands-on flower arranging classes perfect for kids\, teens\, and adults of all ages. Each participant will create a beautiful arrangement using a mix of sola wood flowers and fresh blooms\, plus take home a sweet pre-made card to complete the gift. \nThis class is great for ages 8–12 (and up!). This class features a larger arrangement in a mason jar or mug—ideal for creating a fuller\, more detailed design. \nWhether you’re making a gift for Mom\, Grandma\, or someone special—or just enjoying time together—these classes are a wonderful way to celebrate the season.\nSpots are limited\, so be sure to reserve your place soon! \n 
URL:https://hollabaughbros.com/event/mothers-day-flower-arrangement-class-ages-8/
LOCATION:Hollabaugh Bros.\, Inc.\, 545 Carlisle Road\, Biglerville\, PA\, 17307\, United States
CATEGORIES:DIY Classes
ATTACH;FMTTYPE=image/png:https://hollabaughbros.com/wp-content/uploads/2026/03/event-images-3.png
END:VEVENT
BEGIN:VEVENT
DTSTART;TZID=America/New_York:20260516T100000
DTEND;TZID=America/New_York:20260516T110000
DTSTAMP:20260423T142219
CREATED:20260323T182102Z
LAST-MODIFIED:20260323T184512Z
UID:10002125-1778925600-1778929200@hollabaughbros.com
SUMMARY: Kid’s Strawberry Day at Hollabaugh Bros.
DESCRIPTION:Join us for a sweet morning of strawberry-themed fun! \nWe’re inviting kids of all ages to enjoy:\n🍓 A fun strawberry craft\n🍓 A tasty themed snack\n🍓 An engaging activity \nIt’s the perfect way to celebrate all things strawberry with a little creativity\, a little learning\, and a lot of fun! Registration is $10 per person. Space may be limited\, so be sure to sign up in advance! We can’t wait to see your little ones there for this berry special event! 🍓
URL:https://hollabaughbros.com/event/kids-strawberry-day-at-hollabaugh-bros/
LOCATION:Hollabaugh Bros.\, Inc.\, 545 Carlisle Road\, Biglerville\, PA\, 17307\, United States
CATEGORIES:Children's Programming
ATTACH;FMTTYPE=image/png:https://hollabaughbros.com/wp-content/uploads/2026/03/event-images-1.png
END:VEVENT
BEGIN:VEVENT
DTSTART;TZID=America/New_York:20260530T120000
DTEND;TZID=America/New_York:20260530T160000
DTSTAMP:20260423T142219
CREATED:20260112T183429Z
LAST-MODIFIED:20260112T184654Z
UID:10001316-1780142400-1780156800@hollabaughbros.com
SUMMARY:11th Annual Strawberry Festival
DESCRIPTION:Get ready for some berry sweet fun on the farm! 🍓🎶 \nWe’re rolling out the red carpet for strawberries\, and our much-loved ice cream tent will be back and serving up delicious strawberry treats you won’t want to miss. Enjoy live music from Paul Zavinsky both days while our bakery stays busy baking up strawberry sugar cookies\, muffins\, and plenty more seasonal favorites. \nTake a relaxing wagon ride around the farm\, then cool off with a creamy strawberry milkshake. Kids can join in the fun\, too\, with a free strawberry-themed craft and scavenger hunt. \nCome hungry! Dougie’s BBQ Smokehouse\, Bricker’s Famous French Fries\, Travelin’ Tom’s Coffee Truck\, and Reign & Taij’s Lemonade will all be onsite with tasty eats and refreshing drinks. While you’re here\, shop our market and browse the talents of 8+ local artisan vendors. \nWe hope you’ll join us on the farm for a weekend filled with strawberries\, smiles\, and good times!
URL:https://hollabaughbros.com/event/11th-annual-strawberry-festival/2026-05-30/
LOCATION:Hollabaugh Bros.\, Inc.\, 545 Carlisle Road\, Biglerville\, PA\, 17307\, United States
CATEGORIES:Festival
ATTACH;FMTTYPE=image/png:https://hollabaughbros.com/wp-content/uploads/2026/01/event-images-8.png
END:VEVENT
BEGIN:VEVENT
DTSTART;TZID=America/New_York:20260531T120000
DTEND;TZID=America/New_York:20260531T160000
DTSTAMP:20260423T142219
CREATED:20260112T183429Z
LAST-MODIFIED:20260112T184654Z
UID:10001317-1780228800-1780243200@hollabaughbros.com
SUMMARY:11th Annual Strawberry Festival
DESCRIPTION:Get ready for some berry sweet fun on the farm! 🍓🎶 \nWe’re rolling out the red carpet for strawberries\, and our much-loved ice cream tent will be back and serving up delicious strawberry treats you won’t want to miss. Enjoy live music from Paul Zavinsky both days while our bakery stays busy baking up strawberry sugar cookies\, muffins\, and plenty more seasonal favorites. \nTake a relaxing wagon ride around the farm\, then cool off with a creamy strawberry milkshake. Kids can join in the fun\, too\, with a free strawberry-themed craft and scavenger hunt. \nCome hungry! Dougie’s BBQ Smokehouse\, Bricker’s Famous French Fries\, Travelin’ Tom’s Coffee Truck\, and Reign & Taij’s Lemonade will all be onsite with tasty eats and refreshing drinks. While you’re here\, shop our market and browse the talents of 8+ local artisan vendors. \nWe hope you’ll join us on the farm for a weekend filled with strawberries\, smiles\, and good times!
URL:https://hollabaughbros.com/event/11th-annual-strawberry-festival/2026-05-31/
LOCATION:Hollabaugh Bros.\, Inc.\, 545 Carlisle Road\, Biglerville\, PA\, 17307\, United States
CATEGORIES:Festival
ATTACH;FMTTYPE=image/png:https://hollabaughbros.com/wp-content/uploads/2026/01/event-images-8.png
END:VEVENT
END:VCALENDAR