BEGIN:VCALENDAR
VERSION:2.0
PRODID:-//Welcome to Hollabaugh Bros, Inc. - ECPv6.15.20//NONSGML v1.0//EN
CALSCALE:GREGORIAN
METHOD:PUBLISH
X-WR-CALNAME:Welcome to Hollabaugh Bros, Inc.
X-ORIGINAL-URL:https://hollabaughbros.com
X-WR-CALDESC:Events for Welcome to Hollabaugh Bros, Inc.
REFRESH-INTERVAL;VALUE=DURATION:PT1H
X-Robots-Tag:noindex
X-PUBLISHED-TTL:PT1H
BEGIN:VTIMEZONE
TZID:America/New_York
BEGIN:DAYLIGHT
TZOFFSETFROM:-0500
TZOFFSETTO:-0400
TZNAME:EDT
DTSTART:20250309T070000
END:DAYLIGHT
BEGIN:STANDARD
TZOFFSETFROM:-0400
TZOFFSETTO:-0500
TZNAME:EST
DTSTART:20251102T060000
END:STANDARD
BEGIN:DAYLIGHT
TZOFFSETFROM:-0500
TZOFFSETTO:-0400
TZNAME:EDT
DTSTART:20260308T070000
END:DAYLIGHT
BEGIN:STANDARD
TZOFFSETFROM:-0400
TZOFFSETTO:-0500
TZNAME:EST
DTSTART:20261101T060000
END:STANDARD
BEGIN:DAYLIGHT
TZOFFSETFROM:-0500
TZOFFSETTO:-0400
TZNAME:EDT
DTSTART:20270314T070000
END:DAYLIGHT
BEGIN:STANDARD
TZOFFSETFROM:-0400
TZOFFSETTO:-0500
TZNAME:EST
DTSTART:20271107T060000
END:STANDARD
END:VTIMEZONE
BEGIN:VEVENT
DTSTART;TZID=America/New_York:20260805T090000
DTEND;TZID=America/New_York:20260805T100000
DTSTAMP:20260423T192631
CREATED:20260319T213342Z
LAST-MODIFIED:20260320T135532Z
UID:10002072-1785920400-1785924000@hollabaughbros.com
SUMMARY:Read\, Learn\, Grow: 9AM Session
DESCRIPTION:Join us this summer for Read\, Learn\, Grow\, a fun and engaging farm program for kids! Designed especially for children ages 3–8 (but open to kids of all ages)\, each class brings stories to life with hands-on learning right here on the farm. \nWeekly Topics will be announced soon!! \nEvery session includes:\n📖 A themed story time\n🎨 A craft or creative activity\n🚜 Hands-on farm experiences like picking blueberries\, digging potatoes\, and exploring how food grows\n💲 Cost: $10 per class\n🌞 Come for one class or join us all summer long! \nBring your curiosity\, your love of exploring\, and clothes that can get a little messy—we’ll take care of the rest. Cost is $10 per child/session and pre-registration is required. Sign up for one or all sessions today! Sign up for all sessions\, receive one session FREE!
URL:https://hollabaughbros.com/event/read-learn-grow-wednesday-9am-session/2026-08-05/
LOCATION:Hollabaugh Bros.\, Inc.\, 545 Carlisle Road\, Biglerville\, PA\, 17307\, United States
CATEGORIES:Read, Learn, Grow
ATTACH;FMTTYPE=image/png:https://hollabaughbros.com/wp-content/uploads/2026/03/event-images-2.png
END:VEVENT
BEGIN:VEVENT
DTSTART;TZID=America/New_York:20260805T103000
DTEND;TZID=America/New_York:20260805T113000
DTSTAMP:20260423T192631
CREATED:20260319T214515Z
LAST-MODIFIED:20260320T135614Z
UID:10002103-1785925800-1785929400@hollabaughbros.com
SUMMARY:Read\, Learn\, Grow: 10:30AM Session
DESCRIPTION:Join us this summer for Read\, Learn\, Grow\, a fun and engaging farm program for kids! Designed especially for children ages 3–8 (but open to kids of all ages)\, each class brings stories to life with hands-on learning right here on the farm. \nWeekly Topics will be announced soon!! \nEvery session includes:\n📖 A themed story time\n🎨 A craft or creative activity\n🚜 Hands-on farm experiences like picking blueberries\, digging potatoes\, and exploring how food grows\n💲 Cost: $10 per class\n🌞 Come for one class or join us all summer long! \nBring your curiosity\, your love of exploring\, and clothes that can get a little messy—we’ll take care of the rest. Cost is $10 per child/session and pre-registration is required. Sign up for one or all sessions today! Sign up for all sessions\, receive one session FREE!
URL:https://hollabaughbros.com/event/read-learn-grow-wednesday-1030am-session/2026-08-05/
LOCATION:Hollabaugh Bros.\, Inc.\, 545 Carlisle Road\, Biglerville\, PA\, 17307\, United States
CATEGORIES:Read, Learn, Grow
ATTACH;FMTTYPE=image/png:https://hollabaughbros.com/wp-content/uploads/2026/03/event-images-2.png
END:VEVENT
BEGIN:VEVENT
DTSTART;TZID=America/New_York:20260808T120000
DTEND;TZID=America/New_York:20260808T160000
DTSTAMP:20260423T192631
CREATED:20260112T185226Z
LAST-MODIFIED:20260203T194327Z
UID:10002052-1786190400-1786204800@hollabaughbros.com
SUMMARY:32nd Annual Peach Festival
DESCRIPTION:It just wouldn’t be August on the farm without our Peach Festival! 🍑🎉 \nOur famous ice cream tent will be back and better than ever\, serving up peach sundaes and pie à la mode\, along with peach ice cream\, milkshakes\, and plenty of peach products to sample. Inside the bakery\, you’ll find the irresistible smells of fresh-baked peach bread\, muffins\, scones\, sugar cakes\, and—of course—our own homemade peach pies. \nSpend the day enjoying live music\, wagon rides\, yard games\, face painting by professional artist Yu Li\, shopping with local artisan vendors\, and so much more. It’s a full day of peachy fun for the whole family. \nThe festival is free to attend\, as always. Please note there is a $5 parking fee\, which benefits the organizations that generously provide volunteers to help staff our festival. \nWe can’t wait to celebrate peach season with you on the farm!
URL:https://hollabaughbros.com/event/32nd-annual-peach-festival/2026-08-08/
LOCATION:Hollabaugh Bros.\, Inc.\, 545 Carlisle Road\, Biglerville\, PA\, 17307\, United States
CATEGORIES:Festival
ATTACH;FMTTYPE=image/png:https://hollabaughbros.com/wp-content/uploads/2026/01/event-images-10.png
END:VEVENT
BEGIN:VEVENT
DTSTART;TZID=America/New_York:20260809T120000
DTEND;TZID=America/New_York:20260809T160000
DTSTAMP:20260423T192631
CREATED:20260112T185226Z
LAST-MODIFIED:20260203T194327Z
UID:10002053-1786276800-1786291200@hollabaughbros.com
SUMMARY:32nd Annual Peach Festival
DESCRIPTION:It just wouldn’t be August on the farm without our Peach Festival! 🍑🎉 \nOur famous ice cream tent will be back and better than ever\, serving up peach sundaes and pie à la mode\, along with peach ice cream\, milkshakes\, and plenty of peach products to sample. Inside the bakery\, you’ll find the irresistible smells of fresh-baked peach bread\, muffins\, scones\, sugar cakes\, and—of course—our own homemade peach pies. \nSpend the day enjoying live music\, wagon rides\, yard games\, face painting by professional artist Yu Li\, shopping with local artisan vendors\, and so much more. It’s a full day of peachy fun for the whole family. \nThe festival is free to attend\, as always. Please note there is a $5 parking fee\, which benefits the organizations that generously provide volunteers to help staff our festival. \nWe can’t wait to celebrate peach season with you on the farm!
URL:https://hollabaughbros.com/event/32nd-annual-peach-festival/2026-08-09/
LOCATION:Hollabaugh Bros.\, Inc.\, 545 Carlisle Road\, Biglerville\, PA\, 17307\, United States
CATEGORIES:Festival
ATTACH;FMTTYPE=image/png:https://hollabaughbros.com/wp-content/uploads/2026/01/event-images-10.png
END:VEVENT
END:VCALENDAR